BEGIN:VCALENDAR
VERSION:2.0
PRODID:-//ChamberMaster//Event Calendar 2.0//EN
METHOD:PUBLISH
X-PUBLISHED-TTL:P3D
REFRESH-INTERVAL:P3D
CALSCALE:GREGORIAN
BEGIN:VEVENT
DTSTART;VALUE=DATE:20211112
DTEND;VALUE=DATE:20211114
TRANSP:TRANSPARENT
X-MICROSOFT-CDO-ALLDAYEVENT:TRUE
SUMMARY:The 5th Annual Emerald Coast Honor Games
DESCRIPTION:The 5th Annual Honor Games \n\nSupporting Defenders of the Front Line\, Veterans and First Responders\n\n \n\nFriday\, November 12th 2021\n\n8:00 AM\n\nHonor Breakfast followed by \n\nDEKA Strong fitness challenge by Spartan \n\n \n\nSaturday\, November 13th 2021\n\n8:30 AM\n\nOpening Ceremonies and Celebration Kick Off Event\n\nDEKA Mile and Strength Competition\n\nRuck 22 Awards and Afterparty \n \n\n \nRegister Today\n\n \n\n \n\n \n \n\nEmerald Coast Honor Games 2021 Beneficiaries \n\n \n\nSpecial Ops Survivors \n\nSpecial Ops Survivors provides for the families of Special Operations Survivors personnel and help reduce the burden of losing a loved one and provide resources and tools for survivors to live their new normal in the best most fulfilling way possible.\n\n \n\nAir Commando Association\n\nProvide critically needed support and financial assistance to Air Commandos and their families\, past\, present\, and future. \n\n \n\nHealing Paws for Warriors \n\nHealing Paws for Warriors is dedicated to providing Post 9/11 combat veterans suffering from Post Traumatic Stress Disorder (PTSD).\n\n \n\nThe Special Forces Association Chapter 7 \n\nThe Special Forces Association serves as the voice for the Special Forces Community\; perpetuates Special Forces traditions and brotherhood\; advances the public image of Special Forces and promotes the general welfare of the Special Forces Community.\n\n \n\nOkaloosa Sheriff's Star Charity \n\nDedicated to assisting the Okaloosa County Sheriff's Office with unplanned\, life changing events as a means of giving back to those who protect and serve.\n\n \n\nPlease visit us at www.emeraldcoasthonorgames.com or follow us on Facebook or Instagram. \n\n \n\n To volunteer\, donate or become a vendor click here for more information.
X-ALT-DESC;FMTTYPE=text/html:<span style="font-family:arial\;"><span style="font-size:14px\;"><strong>The 5th Annual Honor Games&nbsp\;</strong><br />\n<strong>Supporting Defenders of the Front Line\, Veterans and First Responders</strong><br />\n&nbsp\;<br />\n<strong>Friday\, November 12th 2021</strong><br />\n<strong>8:00 AM</strong><br />\nHonor Breakfast followed by&nbsp\;<br />\nDEKA Strong fitness challenge by Spartan&nbsp\;<br />\n&nbsp\;<br />\n<strong>Saturday\, November 13th 2021</strong><br />\n<strong>8:30 AM</strong><br />\nOpening Ceremonies and Celebration Kick Off Event<br />\nDEKA Mile and Strength Competition<br />\nRuck 22 Awards and Afterparty&nbsp\;</span></span>\n<div style="color:rgb(0\, 0\, 0)\;"><span style="font-family:arial\;"><span style="font-size:14px\;">&nbsp\;</span></span></div>\n\n<div style="color:rgb(0\, 0\, 0)\;"><span style="font-family:arial\;"><span style="font-size:14px\;">&nbsp\;</span></span></div>\n<span style="font-family:arial\;"><span style="font-size:14px\;"><span style="color:#575757\;"><a href="https://r20.rs6.net/tn.jsp?f=001zrX1oAp6rjlLoKNB5dWczaDnkLFA8T1vExMIldmY6o3ZQ3ymenpazC1txFgrYj8wQkbRXqx_TMf2nLcbVZ3IrwQ2_KmGT39vP6efRWa1HA7jZ7jY2JHmHtlrTvSRuyonHt8u8U1zpQ6_CarZnnusVVLvY8J9mJoE1akm0RXfq8aEqC69YCyJvhNlGpK6x9BHo37ytG6RKIwHjIrfzd07ldE8DcaD2FIO6whzALLaEuTOfAoYDSkzeaWAl9N-EsZj&amp\;c=Nukv7gp18TBJOTUV3wg0we3Vm2NpxFJU7RY0SxVi5Bwy6OJ1yoJF0g==&amp\;ch=NnhkkYEqlQSI3Rn1xMKiOJ1_rGwaHidfJ84LhbBFKvW2Dko7b6xXqA==" style="color:blue\;" target="_blank"><span style="color:#eb4c39\;">Register Today</span></a></span><br />\n&nbsp\;</span></span>\n\n<div style="color:rgb(0\, 0\, 0)\;"><span style="font-family:arial\;"><span style="font-size:14px\;">&nbsp\;</span></span></div>\n\n<div style="color:rgb(0\, 0\, 0)\;"><span style="font-family:arial\;"><span style="font-size:14px\;">&#65279\;</span></span></div>\n<span style="font-family:arial\;"><span style="font-size:14px\;">&nbsp\;<br />\n<strong>Emerald Coast Honor Games 2021 Beneficiaries&nbsp\;</strong></span></span>\n\n<div style="color:rgb(0\, 0\, 0)\;"><span style="font-family:arial\;"><span style="font-size:14px\;">&nbsp\;</span></span></div>\n\n<div style="color:rgb(0\, 0\, 0)\;"><span style="font-family:arial\;"><span style="font-size:14px\;"><span style="color:#575757\;"><a href="https://r20.rs6.net/tn.jsp?f=001zrX1oAp6rjlLoKNB5dWczaDnkLFA8T1vExMIldmY6o3ZQ3ymenpazHA4KfMyqkuIiEqncP-SVn8t_a1uKiphlwX5Axtb6LfRKbeqrtpyCr32fqJtiKqaDGrfjLg0-DBFyDqj01YSfGvQNkjAzhG-Nxwd03odEBHF&amp\;c=Nukv7gp18TBJOTUV3wg0we3Vm2NpxFJU7RY0SxVi5Bwy6OJ1yoJF0g==&amp\;ch=NnhkkYEqlQSI3Rn1xMKiOJ1_rGwaHidfJ84LhbBFKvW2Dko7b6xXqA==" style="color:blue\;" target="_blank"><strong><span style="color:black\;">Special Ops Survivors&nbsp\;</span></strong></a></span></span></span></div>\n\n<div style="color:rgb(0\, 0\, 0)\;"><span style="font-family:arial\;"><span style="font-size:14px\;">Special Ops Survivors provides for the families of Special Operations Survivors personnel and help reduce the burden of losing a loved one and provide resources and tools for survivors to live their new normal in the best most fulfilling way possible.</span></span></div>\n\n<div style="color:rgb(0\, 0\, 0)\;"><span style="font-family:arial\;"><span style="font-size:14px\;">&nbsp\;</span></span></div>\n\n<div style="color:rgb(0\, 0\, 0)\;"><span style="font-family:arial\;"><span style="font-size:14px\;"><span style="color:#575757\;"><a href="https://r20.rs6.net/tn.jsp?f=001zrX1oAp6rjlLoKNB5dWczaDnkLFA8T1vExMIldmY6o3ZQ3ymenpazHA4KfMyqkuID8oPZ0Xy-jI6lL4dmcx64amvZV1w6q7WWSI0EEo884icAkRnoCvefWQRJcZOjT7XP1nPNoO0InADreCRKpWzCg==&amp\;c=Nukv7gp18TBJOTUV3wg0we3Vm2NpxFJU7RY0SxVi5Bwy6OJ1yoJF0g==&amp\;ch=NnhkkYEqlQSI3Rn1xMKiOJ1_rGwaHidfJ84LhbBFKvW2Dko7b6xXqA==" style="color:blue\;" target="_blank"><strong><span style="color:black\;">Air Commando Association</span></strong></a></span></span></span></div>\n\n<div style="color:rgb(0\, 0\, 0)\;"><span style="font-family:arial\;"><span style="font-size:14px\;">Provide critically needed support and financial assistance to Air Commandos and their families\, past\, present\, and future.&nbsp\;</span></span></div>\n\n<div style="color:rgb(0\, 0\, 0)\;"><span style="font-family:arial\;"><span style="font-size:14px\;">&nbsp\;</span></span></div>\n\n<div style="color:rgb(0\, 0\, 0)\;"><span style="font-family:arial\;"><span style="font-size:14px\;"><span style="color:#575757\;"><a href="https://r20.rs6.net/tn.jsp?f=001zrX1oAp6rjlLoKNB5dWczaDnkLFA8T1vExMIldmY6o3ZQ3ymenpazHA4KfMyqkuIkAJEx92p00MpiHgkgWA9cUxdMjXQQ-y9c2sbm01mSqgno5bRkf72VVlI86WOfJwIlkJVKMM2PeOGR_kdfRw04QuQNI201uLt&amp\;c=Nukv7gp18TBJOTUV3wg0we3Vm2NpxFJU7RY0SxVi5Bwy6OJ1yoJF0g==&amp\;ch=NnhkkYEqlQSI3Rn1xMKiOJ1_rGwaHidfJ84LhbBFKvW2Dko7b6xXqA==" style="color:blue\;" target="_blank"><strong><span style="color:black\;">Healing Paws for Warriors&nbsp\;</span></strong></a></span></span></span></div>\n\n<div style="color:rgb(0\, 0\, 0)\;"><span style="font-family:arial\;"><span style="font-size:14px\;">Healing Paws for Warriors is dedicated to providing Post 9/11 combat veterans suffering from Post Traumatic Stress Disorder (PTSD).</span></span></div>\n\n<div style="color:rgb(0\, 0\, 0)\;"><span style="font-family:arial\;"><span style="font-size:14px\;">&nbsp\;</span></span></div>\n\n<div style="color:rgb(0\, 0\, 0)\;"><span style="font-family:arial\;"><span style="font-size:14px\;"><span style="color:#575757\;"><a href="https://r20.rs6.net/tn.jsp?f=001zrX1oAp6rjlLoKNB5dWczaDnkLFA8T1vExMIldmY6o3ZQ3ymenpazHA4KfMyqkuIZJaJb94DYM4eCXpyC8zunDSondNIdtTbBHd48jq6nkrlECDLcBslpUk-R_C0SmgY-QTXZuycl_8=&amp\;c=Nukv7gp18TBJOTUV3wg0we3Vm2NpxFJU7RY0SxVi5Bwy6OJ1yoJF0g==&amp\;ch=NnhkkYEqlQSI3Rn1xMKiOJ1_rGwaHidfJ84LhbBFKvW2Dko7b6xXqA==" style="color:blue\;" target="_blank"><strong><span style="color:black\;">The Special Forces Association Chapter 7&nbsp\;</span></strong></a></span></span></span></div>\n\n<div style="color:rgb(0\, 0\, 0)\;"><span style="font-family:arial\;"><span style="font-size:14px\;">The Special Forces Association serves as the voice for the Special Forces Community\; perpetuates Special Forces traditions and brotherhood\; advances the public image of Special Forces and promotes the general welfare of the Special Forces Community.</span></span></div>\n\n<div style="color:rgb(0\, 0\, 0)\;"><span style="font-family:arial\;"><span style="font-size:14px\;">&nbsp\;</span></span></div>\n\n<div style="color:rgb(0\, 0\, 0)\;"><span style="font-family:arial\;"><span style="font-size:14px\;"><span style="color:#575757\;"><a href="https://r20.rs6.net/tn.jsp?f=001zrX1oAp6rjlLoKNB5dWczaDnkLFA8T1vExMIldmY6o3ZQ3ymenpazHA4KfMyqkuIfPVcfn-l4QpfGfH7Nnkbave_Ry5TjMp1Q0pw0i9-dHzv0o0W9KfJq_qkzE5N3uk0kw7rwDjhgpoZiiNePOJ4oh1XHrbYKvMkWnRuqO8iVoGLoCtcbxHKsHsX45aKP-tS5ATp-yGpDyA=&amp\;c=Nukv7gp18TBJOTUV3wg0we3Vm2NpxFJU7RY0SxVi5Bwy6OJ1yoJF0g==&amp\;ch=NnhkkYEqlQSI3Rn1xMKiOJ1_rGwaHidfJ84LhbBFKvW2Dko7b6xXqA==" style="color:blue\;" target="_blank"><strong><span style="color:black\;">Okaloosa Sheriff&#39\;s Star Charity&nbsp\;</span></strong></a></span></span></span></div>\n\n<div style="color:rgb(0\, 0\, 0)\;"><span style="font-family:arial\;"><span style="font-size:14px\;">Dedicated to assisting the Okaloosa County Sheriff&rsquo\;s Office with unplanned\, life changing events as a means of giving back to those who protect and serve.</span></span></div>\n\n<div style="color:rgb(0\, 0\, 0)\;"><span style="font-family:arial\;"><span style="font-size:14px\;">&nbsp\;</span></span></div>\n\n<div style="color:rgb(0\, 0\, 0)\;"><span style="font-family:arial\;"><span style="font-size:14px\;">Please visit us at<span style="color:#575757\;"><a href="https://r20.rs6.net/tn.jsp?f=001zrX1oAp6rjlLoKNB5dWczaDnkLFA8T1vExMIldmY6o3ZQ3ymenpazHA4KfMyqkuI6_5eVAHPB-WJRCDOvQZaFrIEGlvaQNIL9yAfOEaZJ1Xmv-BiwwyBiTLgnpZ0z0YN5NzHSbC-LZWmj-fUJOxWAeXCX0wP_zl8&amp\;c=Nukv7gp18TBJOTUV3wg0we3Vm2NpxFJU7RY0SxVi5Bwy6OJ1yoJF0g==&amp\;ch=NnhkkYEqlQSI3Rn1xMKiOJ1_rGwaHidfJ84LhbBFKvW2Dko7b6xXqA==" style="color:blue\;" target="_blank"><strong><span style="color:black\;">&nbsp\;www.emeraldcoasthonorgames.com</span></strong></a></span>&nbsp\;or follow us on Facebook or Instagram.&nbsp\;</span></span></div>\n\n<div style="color:rgb(0\, 0\, 0)\;"><span style="font-family:arial\;"><span style="font-size:14px\;">&nbsp\;</span></span></div>\n\n<div style="color:rgb(0\, 0\, 0)\;"><span style="font-family:arial\;"><span style="font-size:14px\;"><span style="color:#575757\;">&#65279\;<a href="https://r20.rs6.net/tn.jsp?f=001zrX1oAp6rjlLoKNB5dWczaDnkLFA8T1vExMIldmY6o3ZQ3ymenpazHA4KfMyqkuI6_5eVAHPB-WJRCDOvQZaFrIEGlvaQNIL9yAfOEaZJ1Xmv-BiwwyBiTLgnpZ0z0YN5NzHSbC-LZWmj-fUJOxWAeXCX0wP_zl8&amp\;c=Nukv7gp18TBJOTUV3wg0we3Vm2NpxFJU7RY0SxVi5Bwy6OJ1yoJF0g==&amp\;ch=NnhkkYEqlQSI3Rn1xMKiOJ1_rGwaHidfJ84LhbBFKvW2Dko7b6xXqA==" style="color:blue\;" target="_blank"><strong><span style="color:#0c1d32\;">To volunteer\, donate or become a vendor&nbsp\;</span></strong></a></span><strong><span style="color:#0c1d32\;">click here for more information.</span></strong></span></span></div>\n
LOCATION:
UID:e.885.32594
SEQUENCE:3
DTSTAMP:20260423T043756Z
URL:https://business.waltonareachamber.com/events/details/the-5th-annual-emerald-coast-honor-games-32594
END:VEVENT

END:VCALENDAR
