BEGIN:VCALENDAR
VERSION:2.0
PRODID:-//ChamberMaster//Event Calendar 2.0//EN
METHOD:PUBLISH
X-PUBLISHED-TTL:P3D
REFRESH-INTERVAL:P3D
CALSCALE:GREGORIAN
BEGIN:VEVENT
DTSTART:20220402T190000Z
DTEND:20220402T210000Z
X-MICROSOFT-CDO-ALLDAYEVENT:FALSE
SUMMARY:The Art of Batik and Silk painting with Jessica
DESCRIPTION:This 2-hour class is designed to teach the basics of using the batik art form to create a 10 10 floral painting on silk. This is intended as a beginner class for adults\, no experience required. You will learn how to stretch your silk\, draw using hot wax and a traditional tjanting tool\, as well as paint with silk dyes. The instructor will show you examples of how you can use your finished piece as mounted wall art or as fiber art. An explanation of how the dyes are steam set and set with dye fixative will be given. However\, this process is done by the instructor outside of class for students. Finished pieces will be sent to each student after the process is complete. Students will receive their finished work within 3-4 days.
X-ALT-DESC;FMTTYPE=text/html:This 2-hour class is designed to teach the basics of using the batik art form to create a 10&times\;10 floral painting on silk. This is intended as a beginner class for adults\, no experience required. You will learn how to stretch your silk\, draw using hot wax and a traditional tjanting tool\, as well as paint with silk dyes. The instructor will show you examples of how you can use your finished piece as mounted wall art or as fiber art. An explanation of how the dyes are steam set and set with dye fixative will be given. However\, this process is done by the instructor outside of class for students. Finished pieces will be sent to each student after the process is complete. Students will receive their finished work within 3-4 days.
LOCATION:J.Leon Gallery + Studio 13370 US Highway 98 Miramar Beach\, FL 32550
UID:e.885.33551
SEQUENCE:3
DTSTAMP:20260423T125907Z
URL:https://business.waltonareachamber.com/events/details/the-art-of-batik-and-silk-painting-with-jessica-33551
END:VEVENT

END:VCALENDAR
