BEGIN:VCALENDAR
VERSION:2.0
PRODID:-//ChamberMaster//Event Calendar 2.0//EN
METHOD:PUBLISH
X-PUBLISHED-TTL:P3D
REFRESH-INTERVAL:P3D
CALSCALE:GREGORIAN
BEGIN:VEVENT
DTSTART:20220723T163000Z
DTEND:20220723T193000Z
X-MICROSOFT-CDO-ALLDAYEVENT:FALSE
SUMMARY:The Art of Resin Pours with Barbara Suhadolnik
DESCRIPTION:Pour on the fun and creative learning while making colorful Resin Pour cheese boards with instructor Barbara Suhadolnik! No experience needed- as you learn the art of preparing your board\, mixing resin\, adding your colors of choice\, 3 to 4 pouring techniques\, and finishing out pouring 2 cheese boards. All materials included- beginners encouraged and welcomed! Book online at jleongallery.com or call J.Leon Gallery + Studio at (850)-842-3051 to reserve your spot today.
X-ALT-DESC;FMTTYPE=text/html:Pour on the fun and creative learning while making colorful Resin Pour cheese boards with instructor Barbara Suhadolnik! No experience needed- as you learn the art of preparing your board\, mixing resin\, adding your colors of choice\, 3 to 4 pouring techniques\, and finishing out pouring 2 cheese boards. All materials included- beginners encouraged and welcomed! Book online at jleongallery.com or call J.Leon Gallery + Studio at (850)-842-3051 to reserve your spot today.
LOCATION:J.Leon Gallery + Studio 13370 US-98\, Miramar Beach\, FL 32550
UID:e.885.33945
SEQUENCE:3
DTSTAMP:20260423T170837Z
URL:https://business.waltonareachamber.com/events/details/the-art-of-resin-pours-with-barbara-suhadolnik-07-23-2022-33945
END:VEVENT

END:VCALENDAR
