BEGIN:VCALENDAR
VERSION:2.0
PRODID:-//ChamberMaster//Event Calendar 2.0//EN
METHOD:PUBLISH
X-PUBLISHED-TTL:P3D
REFRESH-INTERVAL:P3D
CALSCALE:GREGORIAN
BEGIN:VEVENT
DTSTART:20240810T223000Z
DTEND:20240811T013000Z
X-MICROSOFT-CDO-ALLDAYEVENT:FALSE
SUMMARY:The City of Destin’s 40th Birthday Bash
DESCRIPTION:??Celebrate City of Destin's 40th Birthday Bash at HarborWalk Village!??\n\nJoin us on Saturday\, August 10th\, for a spectacular celebration as we mark the City of Destin's 40th birthday! We're transforming HarborWalk Village into a vibrant party zone filled with fun\, nostalgia\, and entertainment for all ages.\n\n?? Concert on Main Stage 6:00PM-8:00PM | Enjoy performances from local bands and artists that capture the spirit of our beautiful City.\n\n?? Local Businesses: Featuring some of your favorite local businesses plus an AWESOME goody bag for first 400 guests.\n\n?? ?? Entertainment: Marvel at the stilt walkers\, get your face painted\, and immerse yourself in the festive atmosphere.\n\n?? Drone Show: 8:00PM | Enjoy the City's first drone show\, a must-see for the whole family. Eat\, drink\, and join a toast along the Harbor! followed by Firespinning with Autumn Lyfe.\n\nPlus\, enjoy nostalgic photo displays and video reels celebrating Destin's rich history and local businesses.\n\nDon't miss out on this unforgettable celebration. Bring your friends and family\, and let's make this a Birthday Bash to remember!\n\n*FREE Parking at HarborWalk Village and all City-owned parking lots.*
X-ALT-DESC;FMTTYPE=text/html:<p style="margin-left:0px\; margin-right:0px"><strong>??Celebrate City of Destin&rsquo\;s 40th Birthday Bash at HarborWalk Village!??</strong></p>\n\n<p style="margin-left:0px\; margin-right:0px">Join us on Saturday\, August 10th\, for a spectacular celebration as we mark the City of Destin&rsquo\;s 40th birthday! We&rsquo\;re transforming HarborWalk Village into a vibrant party zone filled with fun\, nostalgia\, and entertainment for all ages.</p>\n\n<p style="margin-left:0px\; margin-right:0px">??&nbsp\;<strong>Concert on Main Stage 6:00PM-8:00PM |</strong>&nbsp\;Enjoy performances from local bands and artists that capture the spirit of our beautiful City.<br />\n??&nbsp\;<strong>Local Businesses:</strong>&nbsp\;Featuring some of your favorite local businesses plus an AWESOME goody bag for first 400 guests.<br />\n??&zwj\;??&nbsp\;<strong>Entertainment</strong>: Marvel at the stilt walkers\, get your face painted\, and immerse yourself in the festive atmosphere.<br />\n??<strong>&nbsp\;Drone Show:</strong>&nbsp\;<strong>8:00PM</strong>&nbsp\;| Enjoy the City&rsquo\;s first drone show\, a must-see for the whole family. Eat\, drink\, and join a toast along the Harbor! followed by Firespinning with Autumn Lyfe.</p>\n\n<p style="margin-left:0px\; margin-right:0px">Plus\, enjoy nostalgic photo displays and video reels celebrating Destin&rsquo\;s rich history and local businesses.<br />\nDon&rsquo\;t miss out on this unforgettable celebration. Bring your friends and family\, and let&rsquo\;s make this a Birthday Bash to remember!</p>\n\n<p style="margin-left:0px\; margin-right:0px"><strong>*FREE Parking at HarborWalk Village and all City-owned parking lots.*</strong></p>\n
LOCATION:10 Harbor Blvd\, Destin\, Florida 32541
UID:e.885.41603
SEQUENCE:3
DTSTAMP:20260425T170727Z
URL:https://business.waltonareachamber.com/events/details/the-city-of-destin-s-40th-birthday-bash-41603
END:VEVENT

END:VCALENDAR
