BEGIN:VCALENDAR
VERSION:2.0
PRODID:-//ChamberMaster//Event Calendar 2.0//EN
METHOD:PUBLISH
X-PUBLISHED-TTL:P3D
REFRESH-INTERVAL:P3D
CALSCALE:GREGORIAN
BEGIN:VEVENT
DTSTART:20220723T153000Z
DTEND:20220723T220000Z
X-MICROSOFT-CDO-ALLDAYEVENT:FALSE
SUMMARY:The Gym @ Kickin' It Fitness 1 Year Anniversary Party!
DESCRIPTION:The Gym @ Kickin' It Fitness is celebrating their one year anniversary! Join them in celebrating with free hotdogs (while supplies last)\, tours\, and Q&A's with their team of trainers!
X-ALT-DESC;FMTTYPE=text/html:The Gym @ Kickin&#39\; It Fitness is celebrating their one year anniversary! Join them in celebrating with free hotdogs (while supplies last)\, tours\, and Q&amp\;A&#39\;s with their team of trainers!
LOCATION:
UID:e.885.33941
SEQUENCE:3
DTSTAMP:20260423T171015Z
URL:https://business.waltonareachamber.com/events/details/the-gym-kickin-it-fitness-1-year-anniversary-party-33941
END:VEVENT

END:VCALENDAR
