BEGIN:VCALENDAR
VERSION:2.0
PRODID:-//ChamberMaster//Event Calendar 2.0//EN
METHOD:PUBLISH
X-PUBLISHED-TTL:P3D
REFRESH-INTERVAL:P3D
CALSCALE:GREGORIAN
BEGIN:VEVENT
DTSTART:20260227T233000Z
DTEND:20260228T030000Z
X-MICROSOFT-CDO-ALLDAYEVENT:FALSE
SUMMARY:The Waters at Freeport Ribbon Cutting & Grand Opening
DESCRIPTION:The Waters at Freeport Ribbon Cutting & Grand Opening\n\nJoin us as we celebrate The Waters at Freeport with an official Ribbon Cutting & Grand Opening. This exciting event marks a major milestone and offers the community an opportunity to experience this beautiful new coastal living community firsthand. Guests are invited to connect with fellow Chamber members\, tour the property\, and enjoy an evening of celebration in a festive winter coastal chalet atmosphere.\n\nThe Ribbon Cutting Ceremony will begin at 5:30 PM\, followed by the Grand Opening celebration from 6:00 9:00 PM. Winter cocktail attire is encouraged as you enjoy this special evening.\n\n  Date: February 27\, 2026\n\n  Event Time: 6:00 9:00 PM\n\n   Ribbon Cutting Time: 5:30 PM\n\n  Location: The Waters at Freeport\, Freeport\, FL\n\nCome be part of this exciting moment and help welcome The Waters at Freeport to our growing community.
X-ALT-DESC;FMTTYPE=text/html:<p data-end="57" data-start="0"><strong data-end="57" data-start="0">The Waters at Freeport Ribbon Cutting &amp\; Grand Opening</strong></p>\n\n<p data-end="468" data-start="59">Join us as we celebrate The Waters at Freeport with an official Ribbon Cutting &amp\; Grand Opening. This exciting event marks a major milestone and offers the community an opportunity to experience this beautiful new coastal living community firsthand. Guests are invited to connect with fellow Chamber members\, tour the property\, and enjoy an evening of celebration in a festive winter coastal chalet atmosphere.</p>\n\n<p data-end="653" data-start="470">The Ribbon Cutting Ceremony will begin at 5:30 PM\, followed by the Grand Opening celebration from 6:00&ndash\;9:00 PM. Winter cocktail attire is encouraged as you enjoy this special evening.</p>\n\n<p data-end="798" data-start="655">&#128197\; Date: February 27\, 2026<br data-end="684" data-start="681" />\n&#9200\; Event Time: 6:00&ndash\;9:00 PM<br data-end="713" data-start="710" />\n&#9986\;&#65039\; Ribbon Cutting Time: 5:30 PM<br data-end="747" data-start="744" />\n&#128205\; Location: The Waters at Freeport\, Freeport\, FL</p>\n\n<p data-end="902" data-is-last-node="" data-is-only-node="" data-start="800">Come be part of this exciting moment and help welcome The Waters at Freeport to our growing community.</p>\n
LOCATION:Location: The Waters at Freeport\, Freeport\, FL
UID:e.885.56746
SEQUENCE:3
DTSTAMP:20260422T111155Z
URL:https://business.waltonareachamber.com/events/details/the-waters-at-freeport-ribbon-cutting-grand-opening-56746
END:VEVENT

END:VCALENDAR
