BEGIN:VCALENDAR
VERSION:2.0
PRODID:-//ChamberMaster//Event Calendar 2.0//EN
METHOD:PUBLISH
X-PUBLISHED-TTL:P3D
REFRESH-INTERVAL:P3D
CALSCALE:GREGORIAN
BEGIN:VEVENT
DTSTART:20220203T223000Z
DTEND:20220204T000000Z
X-MICROSOFT-CDO-ALLDAYEVENT:FALSE
SUMMARY:Thirsty Thursday
DESCRIPTION:Informal networking event with our current and future community members.
X-ALT-DESC;FMTTYPE=text/html:Informal networking event with our current and future community members.
LOCATION:Beachworx 34990 Emerald Coast Parkway Suite 300 Destin\, FL 32541
UID:e.885.33339
SEQUENCE:3
DTSTAMP:20260423T111157Z
URL:https://business.waltonareachamber.com/events/details/thirsty-thursday-33339
END:VEVENT

END:VCALENDAR
