BEGIN:VCALENDAR
VERSION:2.0
PRODID:-//ChamberMaster//Event Calendar 2.0//EN
METHOD:PUBLISH
X-PUBLISHED-TTL:P3D
REFRESH-INTERVAL:P3D
CALSCALE:GREGORIAN
BEGIN:VEVENT
DTSTART:20190927T000000Z
DTEND:20190927T020000Z
X-MICROSOFT-CDO-ALLDAYEVENT:FALSE
SUMMARY:Throwback Thursday Cinema | Tarzan
DESCRIPTION:Grab your lawn chairs and enjoy a relaxing evening with our Throwback Thursday featured film! This Thursday enjoy Tarzan!
X-ALT-DESC;FMTTYPE=text/html:Grab your lawn chairs and enjoy a relaxing evening with our Throwback Thursday featured film! This Thursday enjoy Tarzan!
LOCATION:The Village of Baytowne Wharf
UID:e.885.24112
SEQUENCE:3
DTSTAMP:20260420T015624Z
URL:https://business.waltonareachamber.com/events/details/throwback-thursday-cinema-tarzan-24112
END:VEVENT

END:VCALENDAR
