BEGIN:VCALENDAR
VERSION:2.0
PRODID:-//ChamberMaster//Event Calendar 2.0//EN
METHOD:PUBLISH
X-PUBLISHED-TTL:P3D
REFRESH-INTERVAL:P3D
CALSCALE:GREGORIAN
BEGIN:VEVENT
DTSTART:20260411T230000Z
DTEND:20260412T020000Z
X-MICROSOFT-CDO-ALLDAYEVENT:FALSE
SUMMARY:Tour of Italy Wine Pairing Dinner at Sandestin Golf and Beach Resort
DESCRIPTION:Burnt Pine Country Club at Sandestin Golf and Beach Resort is proud to host a Tour of Italy Wine Pairing Dinner on Saturday\, April 11\, from 6 9 p.m. This thoughtfully curated multi-course experience features distinctive wines from some of Italy's most celebrated regions\, each expertly paired with beautifully crafted dishes designed to complement every sip.\n\nFrom a sparkling welcome inspired by Modena to bold\, expressive selections from Piedmont\, Tuscany\, and Veneto\, the evening highlights the rich flavors\, traditions\, and regional character that define Italian cuisine. Each course offers a seamless progression of taste\, texture\, and aroma\, all enjoyed in the warm and convivial atmosphere of Burnt Pine.\nPricing for the evening is $220 per person with wine pairings\, or $195 per person without wine. Reservations are required and may be made by emailing BurntPineReservations@sandestin.com. This event is open to both members and non-members.
X-ALT-DESC;FMTTYPE=text/html:<p><a href="https://www.sandestin.com/burnt-pine-golf-country-club" style="text-decoration-line: none\;"><span style="background-color:transparent\; color:rgb(17\, 85\, 204)\; font-family:poppins\,sans-serif\; font-size:10pt">Burnt Pine Country Club</span></a><span style="background-color:transparent\; color:rgb(0\, 0\, 0)\; font-family:poppins\,sans-serif\; font-size:10pt"> at Sandestin Golf and Beach Resort is proud to host a </span><a href="https://www.sandestin.com/things-to-do/events/tour-of-italy-wine-pairing-dinner" style="text-decoration-line: none\;"><span style="background-color:transparent\; color:rgb(17\, 85\, 204)\; font-family:poppins\,sans-serif\; font-size:10pt">Tour of Italy Wine Pairing Dinner</span></a><span style="background-color:transparent\; color:rgb(0\, 0\, 0)\; font-family:poppins\,sans-serif\; font-size:10pt"> on Saturday\, April 11\, from 6&ndash\;9 p.m. This thoughtfully curated</span><a href="https://www.canva.com/design/DAHBQIP1X1U/QfDBBAwHDCYTji7iPVpzSA/view?utm_content=DAHBQIP1X1U&amp\;utm_campaign=designshare&amp\;utm_medium=link2&amp\;utm_source=uniquelinks&amp\;utlId=hba860e9e69" style="text-decoration-line: none\;"><span style="background-color:transparent\; color:rgb(17\, 85\, 204)\; font-family:poppins\,sans-serif\; font-size:10pt"> multi-course experience</span></a><span style="background-color:transparent\; color:rgb(0\, 0\, 0)\; font-family:poppins\,sans-serif\; font-size:10pt"> features distinctive wines from some of Italy&rsquo\;s most celebrated regions\, each expertly paired with beautifully crafted dishes designed to complement every sip.</span></p>\n\n<p><span style="background-color:transparent\; color:rgb(0\, 0\, 0)\; font-family:poppins\,sans-serif\; font-size:10pt">From a sparkling welcome inspired by Modena to bold\, expressive selections from Piedmont\, Tuscany\, and Veneto\, the evening highlights the rich flavors\, traditions\, and regional character that define Italian cuisine. Each course offers a seamless progression of taste\, texture\, and aroma\, all enjoyed in the warm and convivial atmosphere of Burnt Pine.</span></p>\n<span style="background-color:transparent\; color:rgb(0\, 0\, 0)\; font-family:poppins\,sans-serif\; font-size:10pt">Pricing for the evening is $220 per person with wine pairings\, or $195 per person without wine. Reservations are required and may be made by emailing </span><a href="mailto:BurntPineReservations@sandestin.com" style="text-decoration-line: none\;"><span style="background-color:transparent\; color:rgb(17\, 85\, 204)\; font-family:poppins\,sans-serif\; font-size:10pt">BurntPineReservations@sandestin.com</span></a><span style="background-color:transparent\; color:rgb(0\, 0\, 0)\; font-family:poppins\,sans-serif\; font-size:10pt">. This event is open to both members and non-members.</span>
LOCATION:Burnt Pine Country Club at Sandestin Golf and Beach Resort 3300 Burnt Pine Lane\, Miramar Beach\, FL 32550
UID:e.885.56736
SEQUENCE:3
DTSTAMP:20260422T080704Z
URL:https://business.waltonareachamber.com/events/details/tour-of-italy-wine-pairing-dinner-at-sandestin-golf-and-beach-resort-56736
END:VEVENT

END:VCALENDAR
