BEGIN:VCALENDAR
VERSION:2.0
PRODID:-//ChamberMaster//Event Calendar 2.0//EN
METHOD:PUBLISH
X-PUBLISHED-TTL:P3D
REFRESH-INTERVAL:P3D
CALSCALE:GREGORIAN
BEGIN:VEVENT
DTSTART:20210521T000000Z
DTEND:20210521T020000Z
X-MICROSOFT-CDO-ALLDAYEVENT:FALSE
SUMMARY:Treasure Island
DESCRIPTION:THEATRE FOR YOUNG AUDIENCES SERIES: ADVENTUROUS MUSICAL COMEDY\n\nBy Author Robert Louis Stevenson\, adapted by Toby Hulse\n\n\n\nThe feared black spot\, a dead Billy Bones\, and a treasure map to Captain Flint's gold.  Stow away on the Hispaniola with Long John Silver and the crew as they hunt for hidden treasure on a remote Island.  Our young hero Emily finds mutiny\, treason\, and double dealings around every corner in this reinvented classic tale that promises twists at every turn.\n\nRunning Time:  2 hours. A family show For Ages 6 and up.
X-ALT-DESC;FMTTYPE=text/html:<div>\n<h2><span style="font-size:14px\;"><span style="font-family:arial\;"><strong>THEATRE FOR YOUNG AUDIENCES SERIES:</strong> ADVENTUROUS MUSICAL COMEDY</span></span></h2>\n\n<p><span style="font-size:14px\;"><span style="font-family:arial\;">By Author Robert Louis Stevenson\, adapted by Toby Hulse</span></span></p>\n</div>\n\n<div>\n<p><span style="font-size:14px\;"><span style="font-family:arial\;">The feared black spot\, a dead Billy Bones\, and a treasure map to Captain Flint&#39\;s gold.&nbsp\; Stow away on the Hispaniola with Long John Silver and the crew as they hunt for hidden treasure on a remote Island.&nbsp\; Our young hero Emily finds mutiny\, treason\, and double dealings around every corner in this reinvented classic tale that promises twists at every turn.</span></span></p>\n\n<p><span style="font-size:14px\;"><span style="font-family:arial\;">Running Time:&nbsp\; 2 hours.&nbsp\;A family show For Ages 6 and up.</span></span></p>\n</div>\n
LOCATION:560 Grand Boulevard\, Suite 200 Miramar Beach\, FL 32550 The theatre is located upstairs.
UID:e.885.29385
SEQUENCE:3
DTSTAMP:20260422T142436Z
URL:https://business.waltonareachamber.com/events/details/treasure-island-05-20-2021-29385
END:VEVENT

END:VCALENDAR
