BEGIN:VCALENDAR
VERSION:2.0
PRODID:-//ChamberMaster//Event Calendar 2.0//EN
METHOD:PUBLISH
X-PUBLISHED-TTL:P3D
REFRESH-INTERVAL:P3D
CALSCALE:GREGORIAN
BEGIN:VEVENT
DTSTART:20260328T210000Z
DTEND:20260329T010000Z
X-MICROSOFT-CDO-ALLDAYEVENT:FALSE
SUMMARY:Under The Moonlit Pines Gala - E.O. Wilson Biophilia Center
DESCRIPTION:Join us on Saturday\, March 28\, 2026\, from 4:30 8:00 PM at the E.O. Wilson Biophilia Center for Under the Moonlit Pines\, our signature gala celebrating environmental education\, biodiversity\, and the natural beauty of Northwest Florida. Enjoy live music from the Panama City Youth Orchestra\, exceptional catering\, and an exciting auction all supporting hands-on environmental education programs serving more than 6\,500 youth annually from 56 public schools across Northwest Florida. Upgrade your evening with the VIP Pinecone Patron experience (18+)\, which includes an exclusive private cocktail hour beginning at 4:00 PM and premium seating closest to the orchestra. Early Bird Pricing (through March 4): Moonlit Pass   $110 per guest VIP Pinecone Patron   $150 per guest Longleaf Pine Package   $860 per table Limited space available.
X-ALT-DESC;FMTTYPE=text/html:Join us on Saturday\, March 28\, 2026\, from 4:30&ndash\;8:00 PM at the E.O. Wilson Biophilia Center for Under the Moonlit Pines\, our signature gala celebrating environmental education\, biodiversity\, and the natural beauty of Northwest Florida. Enjoy live music from the Panama City Youth Orchestra\, exceptional catering\, and an exciting auction&mdash\;all supporting hands-on environmental education programs serving more than 6\,500 youth annually from 56 public schools across Northwest Florida. Upgrade your evening with the VIP Pinecone Patron experience (18+)\, which includes an exclusive private cocktail hour beginning at 4:00 PM and premium seating closest to the orchestra. Early Bird Pricing (through March 4): Moonlit Pass &mdash\; $110 per guest VIP Pinecone Patron &mdash\; $150 per guest Longleaf Pine Package &mdash\; $860 per table Limited space available.
LOCATION:4956 State Hwy 20 East\, Freeport\, FL 32439
UID:e.885.56747
SEQUENCE:3
DTSTAMP:20260422T094508Z
URL:https://business.waltonareachamber.com/events/details/under-the-moonlit-pines-gala-e-o-wilson-biophilia-center-56747
END:VEVENT

END:VCALENDAR
