BEGIN:VCALENDAR
VERSION:2.0
PRODID:-//ChamberMaster//Event Calendar 2.0//EN
METHOD:PUBLISH
X-PUBLISHED-TTL:P3D
REFRESH-INTERVAL:P3D
CALSCALE:GREGORIAN
BEGIN:VEVENT
DTSTART:20200214T170000Z
DTEND:20200215T040000Z
X-MICROSOFT-CDO-ALLDAYEVENT:FALSE
SUMMARY:Valentine's Day Special at Slick Lips Seafood & Oyster House
DESCRIPTION:Eat lunch or dinner on Valentine's Day at Slick Lips Seafood & Oyster House! Their Valentine's Day Special includes: herb crusted filet with vanilla butter and poached lobster tail with shaved brussel sprouts\, purple Peruvian potatoes\, & rose scented hollandaise. \n\n\n\nFor reservations\, please call (850) 347-5060
X-ALT-DESC;FMTTYPE=text/html:<span style="font-size:14px\;"><span style="font-family:arial\;">Eat lunch or dinner on Valentine&#39\;s Day at Slick Lips Seafood &amp\; Oyster House! Their Valentine&#39\;s Day Special includes: herb crusted filet with vanilla butter and poached lobster tail with shaved brussel sprouts\, purple Peruvian potatoes\, &amp\; rose scented hollandaise.&nbsp\;<br />\n<br />\nFor reservations\, please call (850) 347-5060</span></span>
LOCATION:Slick Lips Seafood & Oyster House 140 Fishermans Cove Sandestin\, FL 32550 Located in the village of Baytowne Wharf
UID:e.885.26789
SEQUENCE:3
DTSTAMP:20260420T142510Z
URL:https://business.waltonareachamber.com/events/details/valentine-s-day-special-at-slick-lips-seafood-oyster-house-26789
END:VEVENT

END:VCALENDAR
