BEGIN:VCALENDAR
VERSION:2.0
PRODID:-//ChamberMaster//Event Calendar 2.0//EN
METHOD:PUBLISH
X-PUBLISHED-TTL:P3D
REFRESH-INTERVAL:P3D
CALSCALE:GREGORIAN
BEGIN:VEVENT
DTSTART:20220719T163000Z
DTEND:20220719T180000Z
X-MICROSOFT-CDO-ALLDAYEVENT:FALSE
SUMMARY:Veterans and First Responders Appreciation Lunch
DESCRIPTION:A Superior Air's Veterans and First Responders Appreciation Lunch will be held Tuesday\, July 19th at Texas Roadhouse in Pier Park. Register for a chance to win a free HVAC System!
X-ALT-DESC;FMTTYPE=text/html:A Superior Air&#39\;s Veterans and First Responders Appreciation Lunch will be held Tuesday\, July 19th at Texas Roadhouse in Pier Park. Register for a chance to win a free HVAC System!&nbsp\;
LOCATION:Texas Roadhouse Pier Park North
UID:e.885.33904
SEQUENCE:3
DTSTAMP:20260423T170515Z
URL:https://business.waltonareachamber.com/events/details/veterans-and-first-responders-appreciation-lunch-33904
END:VEVENT

END:VCALENDAR
