BEGIN:VCALENDAR
VERSION:2.0
PRODID:-//ChamberMaster//Event Calendar 2.0//EN
METHOD:PUBLISH
X-PUBLISHED-TTL:P3D
REFRESH-INTERVAL:P3D
CALSCALE:GREGORIAN
BEGIN:VEVENT
DTSTART:20211012T163000Z
DTEND:20211012T180000Z
X-MICROSOFT-CDO-ALLDAYEVENT:FALSE
SUMMARY:Veterans First Responders Luncheon Presented by A Superior Air Conditioning!
DESCRIPTION:A Celebration for Walton & Okaloosa Counties!\n\nThe community is coming together again to give recognition and thanks to our Veterans and First Responders. This is FREE for all Vets and First Responders and a guest.\n\nYou will be greeted by the exceptional A Superior Air Conditioning Team - Host of the event - along with our great sponsors and members of the community. Next\, you will enjoy a delicious Texas Roadhouse catered meal\, and have chances to win great door prizes.\n\nEach deserving Veteran and First Responder is invited to go to www.ASuperiorAC.com (scroll down to the blue box "Vets Helping Vets & First Responders - Enter to WIN A complete AC System") and register to win a free HVAC system.\n\nWinners will be announced at the luncheon. We appreciate the opportunity to recognize those who have worked to make us and our community safe.
X-ALT-DESC;FMTTYPE=text/html:<div class="kvgmc6g5 cxmmr5t8 oygrvhab hcukyx3x c1et5uql" style="overflow-wrap: break-word\; margin: 0px\; font-family: &quot\;Segoe UI Historic&quot\;\, &quot\;Segoe UI&quot\;\, Helvetica\, Arial\, sans-serif\; color: rgb(5\, 5\, 5)\; font-size: 15px\;">A Celebration for Walton &amp\; Okaloosa Counties!</div>\n\n<div class="o9v6fnle cxmmr5t8 oygrvhab hcukyx3x c1et5uql" style="overflow-wrap: break-word\; margin: 0.5em 0px 0px\; font-family: &quot\;Segoe UI Historic&quot\;\, &quot\;Segoe UI&quot\;\, Helvetica\, Arial\, sans-serif\; color: rgb(5\, 5\, 5)\; font-size: 15px\;">The community is coming together again to give recognition and thanks to our Veterans and First Responders. This is FREE for all Vets and First Responders and a guest.</div>\n\n<div class="o9v6fnle cxmmr5t8 oygrvhab hcukyx3x c1et5uql" style="overflow-wrap: break-word\; margin: 0.5em 0px 0px\; font-family: &quot\;Segoe UI Historic&quot\;\, &quot\;Segoe UI&quot\;\, Helvetica\, Arial\, sans-serif\; color: rgb(5\, 5\, 5)\; font-size: 15px\;">You will be greeted by the exceptional A Superior Air Conditioning Team - Host of the event - along with our great sponsors and members of the community. Next\, you will enjoy a delicious Texas Roadhouse catered meal\, and have chances to win great door prizes.</div>\n\n<div class="o9v6fnle cxmmr5t8 oygrvhab hcukyx3x c1et5uql" style="overflow-wrap: break-word\; margin: 0.5em 0px 0px\; font-family: &quot\;Segoe UI Historic&quot\;\, &quot\;Segoe UI&quot\;\, Helvetica\, Arial\, sans-serif\; color: rgb(5\, 5\, 5)\; font-size: 15px\;">Each deserving Veteran and First Responder is invited to go to&nbsp\;<a class="oajrlxb2 g5ia77u1 qu0x051f esr5mh6w e9989ue4 r7d6kgcz rq0escxv nhd2j8a9 nc684nl6 p7hjln8o kvgmc6g5 cxmmr5t8 oygrvhab hcukyx3x jb3vyjys rz4wbd8a qt6c0cv9 a8nywdso i1ao9s8h esuyzwwr f1sip0of lzcic4wl py34i1dx gpro0wi8" href="https://l.facebook.com/l.php?u=http%3A%2F%2Fwww.ASuperiorAC.com%2F%3Ffbclid%3DIwAR3kPKfMNBMyNjtWH_OkTToHJ2St8hWdoF1h4D9gffe6v4b3hLPEQ2bVdxA&amp\;h=AT0Xv3_HoixKQ4bnV9PZqXpyT8yDPzz26Mu7ijCj0BFgTAVATbHfSJ-oFDrvyupd9VL7Ii7FE_NDoDObXkUeyloCKaA8vUNNmKuuaeIWyF5uSizjrOFtxYsLGF5NKNX_JXEY&amp\;__tn__=q&amp\;c[0]=AT3Rh8aVBGIuZDmUYgrKoG1DmyAMIjrRsAYGHwREDnEjRLwCii_i0GeAxgvkbHC_aA8FzQZqx38tNCtYo1t82QGg2-zxVbVUohpvjG0msPZ4fFS80pE31NEgBemO3jUPL-wwMMtNjxIaogj45R7RDAcO" rel="nofollow noopener" role="link" style="color: var(--blue-link)\; cursor: pointer\; text-decoration-line: none\; outline: none\; list-style: none\; border-width: 0px\; border-style: initial\; border-color: initial\; padding: 0px\; margin: 0px\; touch-action: manipulation\; background-color: transparent\; text-align: inherit\; display: inline\; -webkit-tap-highlight-color: transparent\; box-sizing: border-box\; font-family: inherit\;" tabindex="0" target="_blank">www.ASuperiorAC.com</a>&nbsp\;(scroll down to the blue box &quot\;Vets Helping Vets &amp\; First Responders - Enter to WIN A complete AC System&quot\;) and register to win a free HVAC system.</div>\n\n<div class="o9v6fnle cxmmr5t8 oygrvhab hcukyx3x c1et5uql" style="overflow-wrap: break-word\; margin: 0.5em 0px 0px\; font-family: &quot\;Segoe UI Historic&quot\;\, &quot\;Segoe UI&quot\;\, Helvetica\, Arial\, sans-serif\; color: rgb(5\, 5\, 5)\; font-size: 15px\;">Winners will be announced at the luncheon. We appreciate the opportunity to recognize those who have worked to make us and our community safe.</div>\n
LOCATION:
UID:e.885.32588
SEQUENCE:3
DTSTAMP:20260423T030112Z
URL:https://business.waltonareachamber.com/events/details/veterans-first-responders-luncheon-presented-by-a-superior-air-conditioning-32588
END:VEVENT

END:VCALENDAR
