BEGIN:VCALENDAR
VERSION:2.0
PRODID:-//ChamberMaster//Event Calendar 2.0//EN
METHOD:PUBLISH
X-PUBLISHED-TTL:P3D
REFRESH-INTERVAL:P3D
CALSCALE:GREGORIAN
BEGIN:VEVENT
DTSTART:20250412T140000Z
DTEND:20250412T230000Z
X-MICROSOFT-CDO-ALLDAYEVENT:FALSE
SUMMARY:Veterans of Foreign Wars Cancer Freeze April 2025 Ride
DESCRIPTION:On 12 April 2025\, the VFW Riders Post 4437 is hosting its annual event in support of Cancer Freeze. For those that ride we will have a poker run during the day\, then stay for food and Live auction. For those that do not ride\, come on out and stay for our Live Auction starting at 3:30 p.m.
X-ALT-DESC;FMTTYPE=text/html:<span style="background-color:rgb(255\, 255\, 255)\; color:rgb(8\, 8\, 9)\; font-family:segoe ui historic\,segoe ui\,helvetica\,arial\,sans-serif\; font-size:15px">On 12 April 2025\, the VFW Riders Post 4437 is hosting its annual event in support of Cancer Freeze. For those that ride we will have a poker run during the day\, then stay for food and Live auction. For those that do not ride\, come on out and stay for our Live Auction starting at 3:30 p.m.</span>
LOCATION:25 25th Street Defuniak Springs FL 32433
UID:e.885.54731
SEQUENCE:3
DTSTAMP:20260423T033420Z
URL:https://business.waltonareachamber.com/events/details/veterans-of-foreign-wars-cancer-freeze-april-2025-ride-54731
END:VEVENT

END:VCALENDAR
