BEGIN:VCALENDAR
VERSION:2.0
PRODID:-//ChamberMaster//Event Calendar 2.0//EN
METHOD:PUBLISH
X-PUBLISHED-TTL:P3D
REFRESH-INTERVAL:P3D
CALSCALE:GREGORIAN
BEGIN:VEVENT
DTSTART:20210312T010000Z
DTEND:20210312T020000Z
X-MICROSOFT-CDO-ALLDAYEVENT:FALSE
SUMMARY:Virtual Foster Parent Info Session
DESCRIPTION:Please join us at our upcoming Virtual Foster Parent Info Session https://www.elakeviewcenter.org/FamiliesFirstNetwork/virtual-foster-parent-info-sessions
X-ALT-DESC;FMTTYPE=text/html:<span style="font-size:14px\;"><span style="font-family:arial\;">Please join us at our upcoming Virtual Foster Parent Info Session https://www.elakeviewcenter.org/FamiliesFirstNetwork/virtual-foster-parent-info-sessions</span></span>
LOCATION:Free online webinar
UID:e.885.29403
SEQUENCE:3
DTSTAMP:20260422T110858Z
URL:https://business.waltonareachamber.com/events/details/virtual-foster-parent-info-session-03-11-2021-29403
END:VEVENT

END:VCALENDAR
