BEGIN:VCALENDAR
VERSION:2.0
PRODID:-//ChamberMaster//Event Calendar 2.0//EN
METHOD:PUBLISH
X-PUBLISHED-TTL:P3D
REFRESH-INTERVAL:P3D
CALSCALE:GREGORIAN
BEGIN:VEVENT
DTSTART:20210423T000000Z
DTEND:20210423T010000Z
X-MICROSOFT-CDO-ALLDAYEVENT:FALSE
SUMMARY:Virtual Foster Parent Info Session
DESCRIPTION:Please join Families First Network at our upcoming Virtual Foster Parent Info Session https://www.elakeviewcenter.org/FamiliesFirstNetwork/virtual-foster-parent-info-sessions
X-ALT-DESC;FMTTYPE=text/html:Please join Families First Network at our upcoming Virtual Foster Parent Info Session https://www.elakeviewcenter.org/FamiliesFirstNetwork/virtual-foster-parent-info-sessions
LOCATION:Free Webinar
UID:e.885.29842
SEQUENCE:3
DTSTAMP:20260422T124915Z
URL:https://business.waltonareachamber.com/events/details/virtual-foster-parent-info-session-04-22-2021-29842
END:VEVENT

END:VCALENDAR
