BEGIN:VCALENDAR
VERSION:2.0
PRODID:-//ChamberMaster//Event Calendar 2.0//EN
METHOD:PUBLISH
X-PUBLISHED-TTL:P3D
REFRESH-INTERVAL:P3D
CALSCALE:GREGORIAN
BEGIN:VEVENT
DTSTART;VALUE=DATE:20210401
DTEND;VALUE=DATE:20210415
TRANSP:TRANSPARENT
X-MICROSOFT-CDO-ALLDAYEVENT:TRUE
SUMMARY:Virtual World's Greatest Baby Shower
DESCRIPTION:2021 Virtual World's Greatest Baby Shower The Healthy Start Coalition of Okaloosa and Walton Counties will host the World's Greatest Baby Shower through an online virtual platform from Thursday\, April 1st until Wednesday\, April 14th\, 2021. This event is specially designed for expectant parents or new parents who have had a baby between January 2020 and now\, who reside in Okaloosa or Walton Counties. There will be educational videos and informative exhibitor booths that highlight topics such as parenting\, prenatal health\, new baby care and community resources. Attendees can earn an event bag and enter to win raffles by watching videos\, visiting exhibitor booths\, and completing the event survey. The event will culminate in a Prize Pick-up Drive Through on Saturday April 17th\, at the Northwest Florida State College. Admission is FREE and attendee registration can be found on the Coalition's website at www.healthystartokawalton.org.
X-ALT-DESC;FMTTYPE=text/html:2021 Virtual World&rsquo\;s Greatest Baby Shower The Healthy Start Coalition of Okaloosa and Walton Counties will host the World&rsquo\;s Greatest Baby Shower through an online virtual platform from Thursday\, April 1st until Wednesday\, April 14th\, 2021. This event is specially designed for expectant parents or new parents who have had a baby between January 2020 and now\, who reside in Okaloosa or Walton Counties. There will be educational videos and informative exhibitor booths that highlight topics such as parenting\, prenatal health\, new baby care and community resources. Attendees can earn an event bag and enter to win raffles by watching videos\, visiting exhibitor booths\, and completing the event survey. The event will culminate in a Prize Pick-up Drive Through on Saturday April 17th\, at the Northwest Florida State College. Admission is FREE and attendee registration can be found on the Coalition&rsquo\;s website at www.healthystartokawalton.org.
LOCATION:Virtual- www.healthystartokawalton.org
UID:e.885.29406
SEQUENCE:3
DTSTAMP:20260422T124828Z
URL:https://business.waltonareachamber.com/events/details/virtual-world-s-greatest-baby-shower-29406
END:VEVENT

END:VCALENDAR
