BEGIN:VCALENDAR
VERSION:2.0
PRODID:-//ChamberMaster//Event Calendar 2.0//EN
METHOD:PUBLISH
X-PUBLISHED-TTL:P3D
REFRESH-INTERVAL:P3D
CALSCALE:GREGORIAN
BEGIN:VEVENT
DTSTART:20210324T150000Z
DTEND:20210325T000000Z
X-MICROSOFT-CDO-ALLDAYEVENT:FALSE
SUMMARY:Walk-In Job Fair at Brookdale Destin
DESCRIPTION:Overview\n\n\n\n\nMake Lives Better Including Your Own.\n\n \n\nJOB FAIR\n\nJoin Brookdale Destin for a Walk-In Job Fair on Wednesday's from 10am to 7pm\n\nLocation: 2400 Crystal Cove Lane\, Destin\, FL\n\n \n\nWe are interviewing and hiring for the following positions:\n\nSign On Bonus Available\n\n\n	Caregivers\n	CNA's \n	Med Techs\n	LPN's\n\n\nOn The Spot Offers\n\nSocial Distancing Practiced\n\n \n\nThe happiness of those we serve is dependent on the happiness of our associates\, so you?ll receive competitive compensation and a benefits package with additional perks designed to make you smile. The work you do will be challenging yet rewarding. But you?ll earn more than a paycheck\; you can enjoy opportunities to grow your career\, as well as ongoing programs catered to your health\, financial\, mental\, and emotional needs. Most of all\, we believe you can find purpose\, meaning\, and the chance to be a part of something bigger than yourself.\n\n \n\nVeterans\, transitioning active duty military personnel\, and military spouses are encouraged to apply.\n\n \n\nWe believe that in order to best serve our residents and patients\, we need to first serve our associates.  One way we do that is through our benefits.  Our offerings include\, but are not limited to: \n\n \n\nFull-time and part-time associate benefits:\n\n·         401(k) Retirement Savings Plan\n\n·         Benefit plan package\n\n·         Employee Stock Purchase Program\n\n·         Pre-tax Commuter Benefit\n\n·         Associate Compassion Fund\n\n·         Associate Discounts\n\n·         Identity theft protection\n\n·         Pet savings and insurance plans\n\n·         Voluntary benefits available\n\n \n\n Full-time associate benefits:\n\n·         Extensive Insurance Plans\, including medical\, dental\, vision\, flexible spending account\, health savings account and more.\n\n·         Paid Time Off\n\n·         Adoption Benefit\n\n·         Tuition Reimbursement\n\n·         Company-provided life insurance and accidental death and dismemberment (AD&D)\n\n·         Voluntary STD and LTD\n\n\n\n\nResponsibilities\n\n\n\n\nHave a passion for helping people? Whether you are starting your career or a seasoned caregiver\, such as an RN or CNA\, or you simply have the heart for helping people\, then Brookdale?s caregiver job is for you. Our seniors are looking for trusted companions and friends who bring a passion for helping others. Our caregivers share warm smiles while helping seniors enjoy their daily routines and live life to the fullest. Become part of our family\, grow your skills and career\, and have the satisfaction of helping make seniors? lives brighter every day.\n\n\n\n\nQualifications\n\n\n\n\nWhat it takes to be a Caregiver at Brookdale:\n\nOur caregivers provide direct care to residents\, recognize individual needs\, encourage independence and treat each senior with respect and dignity. You will nurture a home-like setting the community and assist our seniors with activities of daily living\, including bathing\, dressing\, grooming and other personal care needs. Our caregivers also help residents with vacuuming\, dusting\, sweeping\, mopping and dishes.        \n\n \n\nBrookdale is an equal opportunity employer and a drug-free workplace.
X-ALT-DESC;FMTTYPE=text/html:<h2 class="iCIMS_InfoMsg iCIMS_InfoField_Job" style="box-sizing: border-box\; font-family: &quot\;Source Sans Pro&quot\;\; font-weight: 600\; line-height: 1.1\; margin-bottom: 9px\; font-size: 18px\; margin-top: 20px !important\;"><span style="font-size:14px\;"><span style="font-family:arial\;">Overview</span></span></h2>\n\n<div class="iCIMS_InfoMsg iCIMS_InfoMsg_Job" style="box-sizing: border-box\; font-family: &quot\;Source Sans Pro&quot\;\; font-size: 15px\; margin-top: 20px !important\;">\n<div class="iCIMS_Expandable_Container" style="box-sizing: border-box\;">\n<div class="iCIMS_Expandable_Text" style="box-sizing: border-box\;">\n<p style="box-sizing: border-box\; margin: 0px\;"><span style="font-size:14px\;"><span style="font-family:arial\;">Make Lives Better Including Your Own.</span></span></p>\n\n<p style="box-sizing: border-box\; margin: 0px\;">&nbsp\;</p>\n\n<p style="box-sizing: border-box\; margin: 0px\;"><span style="font-size:14px\;"><span style="font-family:arial\;"><strong style="box-sizing: border-box\;">JOB FAIR</strong></span></span></p>\n\n<p style="box-sizing: border-box\; margin: 0px\;"><span style="font-size:14px\;"><span style="font-family:arial\;"><strong style="box-sizing: border-box\;">Join Brookdale Destin for a Walk-In Job Fair on Wednesday's from 10am to 7pm</strong></span></span></p>\n\n<p style="box-sizing: border-box\; margin: 0px\;"><span style="font-size:14px\;"><span style="font-family:arial\;">Location: 2400 Crystal Cove Lane\, Destin\, FL</span></span></p>\n\n<p style="box-sizing: border-box\; margin: 0px\;">&nbsp\;</p>\n\n<p style="box-sizing: border-box\; margin: 0px\;"><span style="font-size:14px\;"><span style="font-family:arial\;"><strong style="box-sizing: border-box\;">We are interviewing and hiring for the following positions:<br style="box-sizing: border-box\;">\nSign On Bonus Available</strong></span></span></p>\n\n<ul style="box-sizing: border-box\; margin-top: 0px\; margin-bottom: 9px\;">\n	<li style="box-sizing: border-box\;"><span style="font-size:14px\;"><span style="font-family:arial\;">Caregivers</span></span></li>\n	<li style="box-sizing: border-box\;"><span style="font-size:14px\;"><span style="font-family:arial\;">CNA's&nbsp\;</span></span></li>\n	<li style="box-sizing: border-box\;"><span style="font-size:14px\;"><span style="font-family:arial\;">Med Techs</span></span></li>\n	<li style="box-sizing: border-box\;"><span style="font-size:14px\;"><span style="font-family:arial\;">LPN's</span></span></li>\n</ul>\n\n<p style="box-sizing: border-box\; margin: 0px\;"><span style="font-size:14px\;"><span style="font-family:arial\;"><strong style="box-sizing: border-box\;">On The Spot Offers</strong></span></span></p>\n\n<p style="box-sizing: border-box\; margin: 0px\;"><span style="font-size:14px\;"><span style="font-family:arial\;"><strong style="box-sizing: border-box\;">Social Distancing Practiced</strong></span></span></p>\n\n<p style="box-sizing: border-box\; margin: 0px\;">&nbsp\;</p>\n\n<p style="box-sizing: border-box\; margin: 0px\;"><span style="font-size:14px\;"><span style="font-family:arial\;">The happiness of those we serve is dependent on the happiness of our associates\, so you?ll receive competitive compensation and a benefits package with additional perks designed to make you smile. The work you do will be challenging yet rewarding. But you?ll earn more than a paycheck\; you can enjoy opportunities to grow your career\, as well as ongoing programs catered to your health\, financial\, mental\, and emotional needs. Most of all\, we believe you can find purpose\, meaning\, and the chance to be a part of something bigger than yourself.</span></span></p>\n\n<p style="box-sizing: border-box\; margin: 0px\;">&nbsp\;</p>\n\n<p style="box-sizing: border-box\; margin: 0px\;"><span style="font-size:14px\;"><span style="font-family:arial\;">Veterans\, transitioning active duty military personnel\, and military spouses are encouraged to apply.</span></span></p>\n\n<p style="box-sizing: border-box\; margin: 0px\;">&nbsp\;</p>\n\n<p style="box-sizing: border-box\; margin: 0px\;"><span style="font-size:14px\;"><span style="font-family:arial\;">We believe that in order to best serve our residents and patients\, we need to first serve our associates.&nbsp\; One way we do that is through our benefits.&nbsp\; Our offerings include\, but are not limited to:&nbsp\;</span></span></p>\n\n<p style="box-sizing: border-box\; margin: 0px\;">&nbsp\;</p>\n\n<p style="box-sizing: border-box\; margin: 0px\;"><span style="font-size:14px\;"><span style="font-family:arial\;"><strong style="box-sizing: border-box\;">Full-time and part-time associate benefits:</strong></span></span></p>\n\n<p style="box-sizing: border-box\; margin: 0px\;"><span style="font-size:14px\;"><span style="font-family:arial\;">·&nbsp\;&nbsp\;&nbsp\;&nbsp\;&nbsp\;&nbsp\;&nbsp\;&nbsp\; 401(k) Retirement Savings Plan</span></span></p>\n\n<p style="box-sizing: border-box\; margin: 0px\;"><span style="font-size:14px\;"><span style="font-family:arial\;">·&nbsp\;&nbsp\;&nbsp\;&nbsp\;&nbsp\;&nbsp\;&nbsp\;&nbsp\; Benefit plan package</span></span></p>\n\n<p style="box-sizing: border-box\; margin: 0px\;"><span style="font-size:14px\;"><span style="font-family:arial\;">·&nbsp\;&nbsp\;&nbsp\;&nbsp\;&nbsp\;&nbsp\;&nbsp\;&nbsp\; Employee Stock Purchase Program</span></span></p>\n\n<p style="box-sizing: border-box\; margin: 0px\;"><span style="font-size:14px\;"><span style="font-family:arial\;">·&nbsp\;&nbsp\;&nbsp\;&nbsp\;&nbsp\;&nbsp\;&nbsp\;&nbsp\; Pre-tax Commuter Benefit</span></span></p>\n\n<p style="box-sizing: border-box\; margin: 0px\;"><span style="font-size:14px\;"><span style="font-family:arial\;">·&nbsp\;&nbsp\;&nbsp\;&nbsp\;&nbsp\;&nbsp\;&nbsp\;&nbsp\; Associate Compassion Fund</span></span></p>\n\n<p style="box-sizing: border-box\; margin: 0px\;"><span style="font-size:14px\;"><span style="font-family:arial\;">·&nbsp\;&nbsp\;&nbsp\;&nbsp\;&nbsp\;&nbsp\;&nbsp\;&nbsp\; Associate Discounts</span></span></p>\n\n<p style="box-sizing: border-box\; margin: 0px\;"><span style="font-size:14px\;"><span style="font-family:arial\;">·&nbsp\;&nbsp\;&nbsp\;&nbsp\;&nbsp\;&nbsp\;&nbsp\;&nbsp\; Identity theft protection</span></span></p>\n\n<p style="box-sizing: border-box\; margin: 0px\;"><span style="font-size:14px\;"><span style="font-family:arial\;">·&nbsp\;&nbsp\;&nbsp\;&nbsp\;&nbsp\;&nbsp\;&nbsp\;&nbsp\; Pet savings and insurance plans</span></span></p>\n\n<p style="box-sizing: border-box\; margin: 0px\;"><span style="font-size:14px\;"><span style="font-family:arial\;">·&nbsp\;&nbsp\;&nbsp\;&nbsp\;&nbsp\;&nbsp\;&nbsp\;&nbsp\; Voluntary benefits available</span></span></p>\n\n<p style="box-sizing: border-box\; margin: 0px\;">&nbsp\;</p>\n\n<p style="box-sizing: border-box\; margin: 0px\;"><span style="font-size:14px\;"><span style="font-family:arial\;"><strong style="box-sizing: border-box\;">&nbsp\;Full-time associate benefits:</strong></span></span></p>\n\n<p style="box-sizing: border-box\; margin: 0px\;"><span style="font-size:14px\;"><span style="font-family:arial\;">·&nbsp\;&nbsp\;&nbsp\;&nbsp\;&nbsp\;&nbsp\;&nbsp\;&nbsp\; Extensive Insurance Plans\, including medical\, dental\, vision\, flexible spending account\, health savings account and more.</span></span></p>\n\n<p style="box-sizing: border-box\; margin: 0px\;"><span style="font-size:14px\;"><span style="font-family:arial\;">·&nbsp\;&nbsp\;&nbsp\;&nbsp\;&nbsp\;&nbsp\;&nbsp\;&nbsp\; Paid Time Off</span></span></p>\n\n<p style="box-sizing: border-box\; margin: 0px\;"><span style="font-size:14px\;"><span style="font-family:arial\;">·&nbsp\;&nbsp\;&nbsp\;&nbsp\;&nbsp\;&nbsp\;&nbsp\;&nbsp\; Adoption Benefit</span></span></p>\n\n<p style="box-sizing: border-box\; margin: 0px\;"><span style="font-size:14px\;"><span style="font-family:arial\;">·&nbsp\;&nbsp\;&nbsp\;&nbsp\;&nbsp\;&nbsp\;&nbsp\;&nbsp\; Tuition Reimbursement</span></span></p>\n\n<p style="box-sizing: border-box\; margin: 0px\;"><span style="font-size:14px\;"><span style="font-family:arial\;">·&nbsp\;&nbsp\;&nbsp\;&nbsp\;&nbsp\;&nbsp\;&nbsp\;&nbsp\; Company-provided life insurance and accidental death and dismemberment (AD&amp\;D)</span></span></p>\n\n<p style="box-sizing: border-box\; margin: 0px\;"><span style="font-size:14px\;"><span style="font-family:arial\;">·&nbsp\;&nbsp\;&nbsp\;&nbsp\;&nbsp\;&nbsp\;&nbsp\;&nbsp\; Voluntary STD and LTD</span></span></p>\n</div>\n</div>\n</div>\n\n<h2 class="iCIMS_InfoMsg iCIMS_InfoField_Job" style="box-sizing: border-box\; font-family: &quot\;Source Sans Pro&quot\;\; font-weight: 600\; line-height: 1.1\; margin-bottom: 9px\; font-size: 18px\; margin-top: 20px !important\;"><span style="font-size:14px\;"><span style="font-family:arial\;">Responsibilities</span></span></h2>\n\n<div class="iCIMS_InfoMsg iCIMS_InfoMsg_Job" style="box-sizing: border-box\; font-family: &quot\;Source Sans Pro&quot\;\; font-size: 15px\; margin-top: 20px !important\;">\n<div class="iCIMS_Expandable_Container" style="box-sizing: border-box\;">\n<div class="iCIMS_Expandable_Text" style="box-sizing: border-box\;">\n<p style="box-sizing: border-box\; margin: 0px\;"><span style="font-size:14px\;"><span style="font-family:arial\;">Have a passion for helping people? Whether you are starting your career or a seasoned caregiver\, such as an RN or CNA\, or you simply have the heart for helping people\, then Brookdale?s caregiver job is for you. Our seniors are looking for trusted companions and friends who bring a passion for helping others. Our caregivers share warm smiles while helping seniors enjoy their daily routines and live life to the fullest. Become part of our family\, grow your skills and career\, and have the satisfaction of helping make seniors? lives brighter every day.</span></span></p>\n</div>\n</div>\n</div>\n\n<h2 class="iCIMS_InfoMsg iCIMS_InfoField_Job" style="box-sizing: border-box\; font-family: &quot\;Source Sans Pro&quot\;\; font-weight: 600\; line-height: 1.1\; margin-bottom: 9px\; font-size: 18px\; margin-top: 20px !important\;"><span style="font-size:14px\;"><span style="font-family:arial\;">Qualifications</span></span></h2>\n\n<div class="iCIMS_InfoMsg iCIMS_InfoMsg_Job" style="box-sizing: border-box\; font-family: &quot\;Source Sans Pro&quot\;\; font-size: 15px\; margin-top: 20px !important\;">\n<div class="iCIMS_Expandable_Container" style="box-sizing: border-box\;">\n<div class="iCIMS_Expandable_Text" style="box-sizing: border-box\;">\n<p style="box-sizing: border-box\; margin: 0px\;"><span style="font-size:14px\;"><span style="font-family:arial\;">What it takes to be a Caregiver at Brookdale:</span></span></p>\n\n<p style="box-sizing: border-box\; margin: 0px\;"><span style="font-size:14px\;"><span style="font-family:arial\;">Our caregivers provide direct care to residents\, recognize individual needs\, encourage independence and treat each senior with respect and dignity. You will nurture a home-like setting the community and assist our seniors with activities of daily living\, including bathing\, dressing\, grooming and other personal care needs. Our caregivers also help residents with vacuuming\, dusting\, sweeping\, mopping and dishes.&nbsp\;&nbsp\;&nbsp\;&nbsp\;&nbsp\;&nbsp\;&nbsp\;&nbsp\;</span></span></p>\n\n<p style="box-sizing: border-box\; margin: 0px\;">&nbsp\;</p>\n\n<p style="box-sizing: border-box\; margin: 0px\;"><span style="font-size:14px\;"><span style="font-family:arial\;">Brookdale is an equal opportunity employer and a drug-free workplace.&nbsp\; &nbsp\;</span></span>&nbsp\;</p>\n</div>\n</div>\n</div>\n
LOCATION:
UID:e.885.29415
SEQUENCE:3
DTSTAMP:20260422T111318Z
URL:https://business.waltonareachamber.com/events/details/walk-in-job-fair-at-brookdale-destin-29415
END:VEVENT

END:VCALENDAR
