BEGIN:VCALENDAR
VERSION:2.0
PRODID:-//ChamberMaster//Event Calendar 2.0//EN
METHOD:PUBLISH
X-PUBLISHED-TTL:P3D
REFRESH-INTERVAL:P3D
CALSCALE:GREGORIAN
BEGIN:VEVENT
DTSTART:20220211T233000Z
DTEND:20220212T030000Z
X-MICROSOFT-CDO-ALLDAYEVENT:FALSE
SUMMARY:Walton Area Chamber Annual Gala
DESCRIPTION:Walton Area Chamber Annual Gala \n\nJoin the WACC for our Annual Chamber Awards Gala hosted this year by the Hilton Sandestin Beach and Golf Resort.\n\n\n\nThe business community event of the year is the Walton Area Chamber\, Annual Gala. Help celebrate the successes of the past year\, share our vision for the future\, and enjoy top-notch entertainment. The event format is a seated dinner with a networking reception and chamber awards ceremony. Join us as we raise a glass to the companies and volunteers who partner with us to be the voice of business\, create jobs\, and help our members thrive. The Gala will be held Friday\, February 11th\, at the Hilton Sandestin Beach Golf Resort & Spa.\n\n\n\nThe black-tie optional Gala presented by Hilton Sandestin Beach Golf Resort & Spa will kick off at 5:30 p.m. with a cocktail reception where guests will have the opportunity to socialize with other attendees including elected officials\, dignitaries\, business owners\, Chamber members\, and guests. \n\n \n\n\n\nClick Here to View Sponsorships
X-ALT-DESC;FMTTYPE=text/html:<div style="text-align: center\;"><strong style="font-family: Arial\, Verdana\, Helvetica\, sans-serif\; font-size: 16px\; color: rgb(89\, 85\, 77)\;"><span style="font-size: 22px\;"><span style="font-size:26px\;"><span style="color:#000000\;">Walton Area Chamber Annual Gala</span></span>&nbsp\;</span></strong></div>\n\n<div style="text-align: center\;"><span style="font-size:22px\;"><span style="text-align: center\; background-color: rgb(255\, 255\, 255)\; font-family: arial\;">Join&nbsp\;the&nbsp\;WACC&nbsp\;for our&nbsp\;Annual Chamber Awards Gala hosted this year by the Hilton&nbsp\;Sandestin&nbsp\;Beach and Golf Resort.</span></span><br />\n<br />\n<span style="font-size:20px\;"><span style="font-family:arial\;">The business community event of the year is the Walton Area Chamber\, Annual Gala. Help celebrate the successes of the past year\, share our vision for the future\, and enjoy top-notch entertainment. The event format is a seated dinner with a networking reception and chamber awards ceremony. Join us as we raise a glass to the companies and volunteers who partner with us to be the voice of business\, create jobs\, and help our members thrive. The Gala will be held Friday\, February 11th\, at the Hilton Sandestin Beach Golf Resort &amp\; Spa.<br />\n<br />\nThe black-tie optional Gala presented by Hilton Sandestin Beach Golf Resort &amp\; Spa will kick off at 5:30 p.m. with a cocktail reception where guests will have the opportunity to socialize with other attendees including elected officials\, dignitaries\, business owners\, Chamber members\, and guests.&nbsp\;</span></span></div>\n\n<div style="text-align: center\;">&nbsp\;</div>\n\n<div style="text-align: center\;"><br />\n<span style="font-size:26px\;"><a href="https://chambermaster.blob.core.windows.net/userfiles/UserFiles/chambers/885/File/Gala2022SponsorshipGuide.pdf">Click Here to View Sponsorships</a><br />\n<br />\n&nbsp\;</span><br />\n<br />\n&nbsp\;</div>\n
LOCATION:Hilton Sandestin Beach Golf Resort & Spa 4000 S Sandestin Blvd\, Miramar Beach\, FL 32550
UID:e.885.32392
SEQUENCE:3
DTSTAMP:20260423T111427Z
URL:https://business.waltonareachamber.com/events/details/walton-area-chamber-annual-gala-32392
END:VEVENT

END:VCALENDAR
