BEGIN:VCALENDAR
VERSION:2.0
PRODID:-//ChamberMaster//Event Calendar 2.0//EN
METHOD:PUBLISH
X-PUBLISHED-TTL:P3D
REFRESH-INTERVAL:P3D
CALSCALE:GREGORIAN
BEGIN:VEVENT
DTSTART:20211109T220000Z
DTEND:20211109T220000Z
X-MICROSOFT-CDO-ALLDAYEVENT:FALSE
SUMMARY:Walton County Board of County Commissioners
DESCRIPTION:
X-ALT-DESC;FMTTYPE=text/html:
LOCATION:Santa Rosa Beach Courthouse Annex
UID:e.885.6502
SEQUENCE:3
DTSTAMP:20260423T044023Z
URL:https://business.waltonareachamber.com/events/details/walton-county-board-of-county-commissioners-11-09-2021-6502
END:VEVENT

END:VCALENDAR
