BEGIN:VCALENDAR
VERSION:2.0
PRODID:-//ChamberMaster//Event Calendar 2.0//EN
METHOD:PUBLISH
X-PUBLISHED-TTL:P3D
REFRESH-INTERVAL:P3D
CALSCALE:GREGORIAN
BEGIN:VEVENT
DTSTART:20211202T200000Z
DTEND:20211202T230000Z
X-MICROSOFT-CDO-ALLDAYEVENT:FALSE
SUMMARY:Walton County Resource & Job Fair
DESCRIPTION:All community services and businesses welcome!
X-ALT-DESC;FMTTYPE=text/html:All community services and businesses welcome!
LOCATION:DeFuniak Springs Community Center Main Room
UID:e.885.32626
SEQUENCE:3
DTSTAMP:20260423T080450Z
URL:https://business.waltonareachamber.com/events/details/walton-county-resource-job-fair-32626
END:VEVENT

END:VCALENDAR
