BEGIN:VCALENDAR
VERSION:2.0
PRODID:-//ChamberMaster//Event Calendar 2.0//EN
METHOD:PUBLISH
X-PUBLISHED-TTL:P3D
REFRESH-INTERVAL:P3D
CALSCALE:GREGORIAN
BEGIN:VEVENT
DTSTART:20210410T140000Z
DTEND:20210410T180000Z
X-MICROSOFT-CDO-ALLDAYEVENT:FALSE
SUMMARY:Waste Management Drive-in Hiring Event
DESCRIPTION:Drive-In Hiring Event on April 10th 9am to 1pm\n\nFort Walton Beach Waste Management\n\n108 Hill Ave\n\nFort Walton Beach\, FL 32547\n\nBest Benefits in the Industry and TOP MILITARY EMPLOYER
X-ALT-DESC;FMTTYPE=text/html:<span style="font-size:14px\;"><span style="font-family:arial\;">Drive-In Hiring Event on April 10th 9am to 1pm<br>\nFort Walton Beach Waste Management<br>\n108 Hill Ave<br>\nFort Walton Beach\, FL 32547<br>\nBest Benefits in the Industry and TOP MILITARY EMPLOYER</span></span>
LOCATION:
UID:e.885.30047
SEQUENCE:3
DTSTAMP:20260422T124915Z
URL:https://business.waltonareachamber.com/events/details/waste-management-drive-in-hiring-event-30047
END:VEVENT

END:VCALENDAR
