BEGIN:VCALENDAR
VERSION:2.0
PRODID:-//ChamberMaster//Event Calendar 2.0//EN
METHOD:PUBLISH
X-PUBLISHED-TTL:P3D
REFRESH-INTERVAL:P3D
CALSCALE:GREGORIAN
BEGIN:VEVENT
DTSTART:20210524T140000Z
DTEND:20210524T150000Z
X-MICROSOFT-CDO-ALLDAYEVENT:FALSE
SUMMARY:WCEM holds Hurricane Preparedness Zoom
DESCRIPTION:Good morning\, South Walton Partners!\n\n												With hurricane season rapidly approaching\, I'd like to remind you that Jeff Goldberg\, Walton County's Director of Emergency Management\, is hosting the annual Hurricane Preparedness Meeting for Business and Lodging Partners on Monday\, May 24 at 9 a.m.\, via Zoom.\n\n												This is a great opportunity for you and your team to learn more about how to prepare your business and employees in the event of a storm impact to Walton County.\n\n												Discussion will include how to prepare for a hurricane\, information regarding to evacuation orders and what is necessary for your employees to gain re-entry after an evacuation order is lifted\, and an explanation about how evacuation decisions are made.\n\n												For those who attend the virtual meeting live\, there will be opportunity for questions and answers as well. The meeting is expected to take about an hour\, but more time will be allowed in order to answer as many questions as necessary.\n\n												Please make plans to attend this virtual meeting\, or assign a member of your staff to attend and share the important information afterward so that we can all be as prepared as possible to quickly recover from any hurricane-related event in South Walton.\n\n												Zoom info below:\n\n												Join Zoom Meeting\n\n												https://us02web.zoom.us/j/82563178758?pwd=NkhJSXdlTW9MTEw4ZWhacGZpL0M1QT09\n\n												Meeting ID: 825 6317 8758\n\n												Passcode: 129026\n\n												One tap mobile\n\n												+13017158592\, 82563178758#  US (Washington DC)\n\n												+13126266799\, 82563178758#  US (Chicago)\n\n												Dial by your location\n\n												        +1 301 715 8592 US (Washington DC)\n\n												        +1 312 626 6799 US (Chicago)\n\n												        +1 929 205 6099 US (New York)\n\n												        +1 253 215 8782 US (Tacoma)\n\n												        +1 346 248 7799 US (Houston)\n\n												        +1 669 900 6833 US (San Jose)\n\n												Meeting ID: 825 6317 8758\n\n												Find your local number: https://us02web.zoom.us/u/kbqC1gJGHC\n\n												With kindest regards\,\n												\n											\n										\n									\n									\n								\n							\n						\n						\n					\n				\n			\n			\n		\n		\n			\n			\n				\n					\n						\n						\n							\n								\n									\n									\n										\n											\n												\n												\n												 \n\n												Lisa Foster\n\n												Industry Relations Specialist\n\n												Walton County TDC \n\n												(850) 267-1216 ext 8512 | (850) 333-2728 Cell | Lisa@VisitSouthWalton.com
X-ALT-DESC;FMTTYPE=text/html:<table border="0" cellpadding="0" cellspacing="0" class="x_devicewidth" style="font-variant-numeric: inherit\; font-variant-east-asian: inherit\; font-stretch: inherit\; font-size: 14.6667px\; line-height: inherit\; font-family: Arial\, Helvetica\, sans-serif\; color: rgb(0\, 0\, 0)\; border-collapse: collapse\;" width="100%">\n	<tbody>\n		<tr style="font-size: 11pt\;">\n			<td style="font-size: 11pt\; border-collapse: collapse\;" width="100%">\n			<table border="0" cellpadding="0" cellspacing="0" class="x_devicewidth" style="font-style: inherit\; font-variant: inherit\; font-weight: inherit\; font-stretch: inherit\; font-size: 11pt\; line-height: inherit\; border-collapse: collapse\;" width="600">\n				<tbody>\n					<tr style="font-size: 11pt\;">\n						<td bgcolor="transparent" class="x_devicewidth" style="font-size: 11pt\; border-collapse: collapse\; box-sizing: border-box\; border-width: initial\; border-style: none\; border-color: initial\;" valign="top" width="600">\n						<table cellpadding="0" cellspacing="0" height="100%" style="font-style: inherit\; font-variant: inherit\; font-weight: inherit\; font-stretch: inherit\; font-size: 11pt\; line-height: inherit\; width: 600px\; height: 1136.67px\;" width="100%">\n							<tbody>\n								<tr style="font-size: 11pt\;">\n									<td class="x_mcol1" style="font-size: 11pt\; border-collapse: separate\; border: 0px\; width: 600px\; height: 1136.67px\;" valign="top">\n									<table border="0" cellpadding="0" cellspacing="0" style="font-style: inherit\; font-variant: inherit\; font-weight: inherit\; font-stretch: inherit\; font-size: 11pt\; line-height: inherit\; border-collapse: collapse\;" width="100%">\n										<tbody>\n											<tr style="font-size: 11pt\;">\n												<td class="x_ao_FreeTextBlock" id="x_B1588098933690" style="font-size: 11pt\; border-collapse: collapse\; padding: 0px\;" valign="top">\n												<p style="font-size: 11pt\; line-height: 22px\;"><span style="font-size:14px\;"><span style="font-family:arial\;"><span style="margin: 0px\; padding: 0px\; border: 0px\; font-style: inherit\; font-variant: inherit\; font-weight: inherit\; font-stretch: inherit\; line-height: 22px\; vertical-align: baseline\; color: inherit\;">Good morning\, South Walton Partners!</span></span></span></p>\n\n												<p style="font-size: 11pt\; line-height: 22px\;"><span style="font-size:14px\;"><span style="font-family:arial\;"><span style="margin: 0px\; padding: 0px\; border: 0px\; font-style: inherit\; font-variant: inherit\; font-weight: inherit\; font-stretch: inherit\; line-height: 22px\; vertical-align: baseline\; color: inherit\;">With hurricane season rapidly approaching\, I&#39\;d like to remind you that Jeff Goldberg\, Walton County&rsquo\;s Director of Emergency Management\, is hosting the annual Hurricane Preparedness Meeting for Business and Lodging Partners on&nbsp\;<strong><span style="margin: 0px\; padding: 0px\; border: 0px\; font-style: inherit\; font-variant: inherit\; font-weight: inherit\; font-stretch: inherit\; line-height: 22px\; vertical-align: baseline\;">Monday\, May 24 at 9 a.m.</span></strong>\, via Zoom.</span></span></span></p>\n\n												<p style="font-size: 11pt\; line-height: 22px\;"><span style="font-size:14px\;"><span style="font-family:arial\;"><span style="margin: 0px\; padding: 0px\; border: 0px\; font-style: inherit\; font-variant: inherit\; font-weight: inherit\; font-stretch: inherit\; line-height: 22px\; vertical-align: baseline\; color: inherit\;">This is a great opportunity for you and your team to learn more about how to prepare your business and employees in the event of a storm impact to Walton County.</span></span></span></p>\n\n												<p style="font-size: 11pt\; line-height: 22px\;"><span style="font-size:14px\;"><span style="font-family:arial\;"><span style="margin: 0px\; padding: 0px\; border: 0px\; font-style: inherit\; font-variant: inherit\; font-weight: inherit\; font-stretch: inherit\; line-height: 22px\; vertical-align: baseline\; color: inherit\;">Discussion will include how to prepare for a hurricane\, information regarding to evacuation orders and what is necessary for your employees to gain re-entry after an evacuation order is lifted\, and an explanation about how evacuation decisions are made.</span></span></span></p>\n\n												<p style="font-size: 11pt\; line-height: 22px\;"><span style="font-size:14px\;"><span style="font-family:arial\;"><span style="margin: 0px\; padding: 0px\; border: 0px\; font-style: inherit\; font-variant: inherit\; font-weight: inherit\; font-stretch: inherit\; line-height: 22px\; vertical-align: baseline\; color: inherit\;">For those who attend the virtual meeting live\, there will be opportunity for questions and answers as well. The meeting is expected to take about an hour\, but more time will be allowed in order to answer as many questions as necessary.</span></span></span></p>\n\n												<p style="font-size: 11pt\; line-height: 22px\;"><span style="font-size:14px\;"><span style="font-family:arial\;"><span style="margin: 0px\; padding: 0px\; border: 0px\; font-style: inherit\; font-variant: inherit\; font-weight: inherit\; font-stretch: inherit\; line-height: 22px\; vertical-align: baseline\; color: inherit\;">Please make plans to attend this virtual meeting\, or assign a member of your staff to attend and share the important information afterward so that we can all be as prepared as possible to quickly recover from any hurricane-related event in South Walton.</span></span></span></p>\n\n												<p style="font-size: 11pt\; line-height: 22px\;"><span style="font-size:14px\;"><span style="font-family:arial\;"><strong><u><span style="margin: 0px\; padding: 0px\; border: 0px\; font-style: inherit\; font-variant: inherit\; font-weight: inherit\; font-stretch: inherit\; line-height: 22px\; vertical-align: baseline\;">Zoom info below</span></u></strong><strong><span style="margin: 0px\; padding: 0px\; border: 0px\; font-style: inherit\; font-variant: inherit\; font-weight: inherit\; font-stretch: inherit\; line-height: 22px\; vertical-align: baseline\;">:</span></strong></span></span></p>\n\n												<p style="font-size: 11pt\; line-height: 22px\;"><span style="font-size:14px\;"><span style="font-family:arial\;"><span style="margin: 0px\; padding: 0px\; border: 0px\; font-style: inherit\; font-variant: inherit\; font-weight: inherit\; font-stretch: inherit\; line-height: 22px\; vertical-align: baseline\; color: inherit\;">Join Zoom Meeting</span></span></span></p>\n\n												<p style="font-size: 11pt\; line-height: 22px\;"><span style="font-size:14px\;"><span style="font-family:arial\;"><span style="margin: 0px\; padding: 0px\; border: 0px\; font-style: inherit\; font-variant: inherit\; font-weight: inherit\; font-stretch: inherit\; line-height: 22px\; vertical-align: baseline\; color: inherit\;"><a data-auth="NotApplicable" data-linkindex="2" href="https://marketing.visitsouthwalton.com/acton/ct/42551/s-0085-2105/Bct/q-0014/l-0012:5fb/ct1_0/1/lu?sid=TV2%3AyKOf1wFtm" id="x_ct1_0" rel="noopener noreferrer" style="margin: 0px\; padding: 0px\; border: 0px\; font-style: inherit\; font-variant: inherit\; font-weight: inherit\; font-stretch: inherit\; font-size: 11pt\; line-height: 22px\; font-family: inherit\; vertical-align: baseline\; color: rgb(40\, 128\, 187)\;" target="_blank"><span style="margin: 0px\; padding: 0px\; border: 0px\; font-style: inherit\; font-variant: inherit\; font-weight: inherit\; font-stretch: inherit\; line-height: 22px\; vertical-align: baseline\;">https://us02web.zoom.us/j/82563178758?pwd=NkhJSXdlTW9MTEw4ZWhacGZpL0M1QT09</span></a></span></span></span></p>\n\n												<p style="font-size: 11pt\; line-height: 22px\;"><span style="font-size:14px\;"><span style="font-family:arial\;"><span style="margin: 0px\; padding: 0px\; border: 0px\; font-style: inherit\; font-variant: inherit\; font-weight: inherit\; font-stretch: inherit\; line-height: 22px\; vertical-align: baseline\; color: inherit\;">Meeting ID: 825 6317 8758</span></span></span></p>\n\n												<p style="font-size: 11pt\; line-height: 22px\;"><span style="font-size:14px\;"><span style="font-family:arial\;"><span style="margin: 0px\; padding: 0px\; border: 0px\; font-style: inherit\; font-variant: inherit\; font-weight: inherit\; font-stretch: inherit\; line-height: 22px\; vertical-align: baseline\; color: inherit\;">Passcode: 129026</span></span></span></p>\n\n												<p style="font-size: 11pt\; line-height: 22px\;"><span style="font-size:14px\;"><span style="font-family:arial\;"><span style="margin: 0px\; padding: 0px\; border: 0px\; font-style: inherit\; font-variant: inherit\; font-weight: inherit\; font-stretch: inherit\; line-height: 22px\; vertical-align: baseline\; color: inherit\;">One tap mobile</span></span></span></p>\n\n												<p style="font-size: 11pt\; line-height: 22px\;"><span style="font-size:14px\;"><span style="font-family:arial\;"><span style="margin: 0px\; padding: 0px\; border: 0px\; font-style: inherit\; font-variant: inherit\; font-weight: inherit\; font-stretch: inherit\; line-height: 22px\; vertical-align: baseline\; color: inherit\;">+13017158592\, 82563178758# &nbsp\;US (Washington DC)</span></span></span></p>\n\n												<p style="font-size: 11pt\; line-height: 22px\;"><span style="font-size:14px\;"><span style="font-family:arial\;"><span style="margin: 0px\; padding: 0px\; border: 0px\; font-style: inherit\; font-variant: inherit\; font-weight: inherit\; font-stretch: inherit\; line-height: 22px\; vertical-align: baseline\; color: inherit\;">+13126266799\, 82563178758#&nbsp\; US (Chicago)</span></span></span></p>\n\n												<p style="font-size: 11pt\; line-height: 22px\;"><span style="font-size:14px\;"><span style="font-family:arial\;"><span style="margin: 0px\; padding: 0px\; border: 0px\; font-style: inherit\; font-variant: inherit\; font-weight: inherit\; font-stretch: inherit\; line-height: 22px\; vertical-align: baseline\; color: inherit\;">Dial by your location</span></span></span></p>\n\n												<p style="font-size: 11pt\; line-height: 22px\;"><span style="font-size:14px\;"><span style="font-family:arial\;"><span style="margin: 0px\; padding: 0px\; border: 0px\; font-style: inherit\; font-variant: inherit\; font-weight: inherit\; font-stretch: inherit\; line-height: 22px\; vertical-align: baseline\; color: inherit\;">&nbsp\;&nbsp\;&nbsp\;&nbsp\;&nbsp\;&nbsp\;&nbsp\; +1 301 715 8592 US (Washington DC)</span></span></span></p>\n\n												<p style="font-size: 11pt\; line-height: 22px\;"><span style="font-size:14px\;"><span style="font-family:arial\;"><span style="margin: 0px\; padding: 0px\; border: 0px\; font-style: inherit\; font-variant: inherit\; font-weight: inherit\; font-stretch: inherit\; line-height: 22px\; vertical-align: baseline\; color: inherit\;">&nbsp\;&nbsp\;&nbsp\;&nbsp\;&nbsp\;&nbsp\;&nbsp\; +1 312 626 6799 US (Chicago)</span></span></span></p>\n\n												<p style="font-size: 11pt\; line-height: 22px\;"><span style="font-size:14px\;"><span style="font-family:arial\;"><span style="margin: 0px\; padding: 0px\; border: 0px\; font-style: inherit\; font-variant: inherit\; font-weight: inherit\; font-stretch: inherit\; line-height: 22px\; vertical-align: baseline\; color: inherit\;">&nbsp\;&nbsp\;&nbsp\;&nbsp\;&nbsp\;&nbsp\;&nbsp\; +1 929 205 6099 US (New York)</span></span></span></p>\n\n												<p style="font-size: 11pt\; line-height: 22px\;"><span style="font-size:14px\;"><span style="font-family:arial\;"><span style="margin: 0px\; padding: 0px\; border: 0px\; font-style: inherit\; font-variant: inherit\; font-weight: inherit\; font-stretch: inherit\; line-height: 22px\; vertical-align: baseline\; color: inherit\;">&nbsp\;&nbsp\;&nbsp\;&nbsp\;&nbsp\;&nbsp\;&nbsp\; +1 253 215 8782 US (Tacoma)</span></span></span></p>\n\n												<p style="font-size: 11pt\; line-height: 22px\;"><span style="font-size:14px\;"><span style="font-family:arial\;"><span style="margin: 0px\; padding: 0px\; border: 0px\; font-style: inherit\; font-variant: inherit\; font-weight: inherit\; font-stretch: inherit\; line-height: 22px\; vertical-align: baseline\; color: inherit\;">&nbsp\;&nbsp\;&nbsp\;&nbsp\;&nbsp\;&nbsp\;&nbsp\; +1 346 248 7799 US (Houston)</span></span></span></p>\n\n												<p style="font-size: 11pt\; line-height: 22px\;"><span style="font-size:14px\;"><span style="font-family:arial\;"><span style="margin: 0px\; padding: 0px\; border: 0px\; font-style: inherit\; font-variant: inherit\; font-weight: inherit\; font-stretch: inherit\; line-height: 22px\; vertical-align: baseline\; color: inherit\;">&nbsp\;&nbsp\;&nbsp\;&nbsp\;&nbsp\;&nbsp\;&nbsp\; +1 669 900 6833 US (San Jose)</span></span></span></p>\n\n												<p style="font-size: 11pt\; line-height: 22px\;"><span style="font-size:14px\;"><span style="font-family:arial\;"><span style="margin: 0px\; padding: 0px\; border: 0px\; font-style: inherit\; font-variant: inherit\; font-weight: inherit\; font-stretch: inherit\; line-height: 22px\; vertical-align: baseline\; color: inherit\;">Meeting ID: 825 6317 8758</span></span></span></p>\n\n												<p style="font-size: 11pt\; line-height: 22px\;"><span style="font-size:14px\;"><span style="font-family:arial\;"><span style="margin: 0px\; padding: 0px\; border: 0px\; font-style: inherit\; font-variant: inherit\; font-weight: inherit\; font-stretch: inherit\; line-height: 22px\; vertical-align: baseline\; color: inherit\;">Find your local number:&nbsp\;<a data-auth="NotApplicable" data-linkindex="3" href="https://marketing.visitsouthwalton.com/acton/ct/42551/s-0085-2105/Bct/q-0014/l-0012:5fb/ct2_0/1/lu?sid=TV2%3AyKOf1wFtm" id="x_ct2_0" rel="noopener noreferrer" style="margin: 0px\; padding: 0px\; border: 0px\; font-style: inherit\; font-variant: inherit\; font-weight: inherit\; font-stretch: inherit\; font-size: 11pt\; line-height: 22px\; font-family: inherit\; vertical-align: baseline\; color: rgb(40\, 128\, 187)\;" target="_blank"><span style="margin: 0px\; padding: 0px\; border: 0px\; font-style: inherit\; font-variant: inherit\; font-weight: inherit\; font-stretch: inherit\; line-height: 22px\; vertical-align: baseline\;">https://us02web.zoom.us/u/kbqC1gJGHC</span></a></span></span></span></p>\n\n												<p style="font-size: 11pt\; line-height: 22px\;"><span style="font-size:14px\;"><span style="font-family:arial\;"><span style="margin: 0px\; padding: 0px\; border: 0px\; font-style: inherit\; font-variant: inherit\; font-weight: inherit\; font-stretch: inherit\; line-height: 22px\; vertical-align: baseline\; color: inherit\;">With kindest regards\,</span></span></span></p>\n												</td>\n											</tr>\n										</tbody>\n									</table>\n									</td>\n								</tr>\n							</tbody>\n						</table>\n						</td>\n					</tr>\n				</tbody>\n			</table>\n			</td>\n		</tr>\n		<tr style="font-size: 11pt\;">\n			<td style="font-size: 11pt\; border-collapse: collapse\;" width="100%">\n			<table border="0" cellpadding="0" cellspacing="0" class="x_devicewidth" style="font-style: inherit\; font-variant: inherit\; font-weight: inherit\; font-stretch: inherit\; font-size: 11pt\; line-height: inherit\; border-collapse: collapse\;" width="600">\n				<tbody>\n					<tr style="font-size: 11pt\;">\n						<td bgcolor="transparent" class="x_devicewidth" style="font-size: 11pt\; border-collapse: collapse\; box-sizing: border-box\; border-width: initial\; border-style: none\; border-color: initial\;" valign="top" width="600">\n						<table cellpadding="0" cellspacing="0" height="100%" style="font-style: inherit\; font-variant: inherit\; font-weight: inherit\; font-stretch: inherit\; font-size: 11pt\; line-height: inherit\; width: 600px\; height: 220px\;" width="100%">\n							<tbody>\n								<tr style="font-size: 11pt\;">\n									<td class="x_mcol1" style="font-size: 11pt\; border-collapse: separate\; border: 0px\; width: 600px\; height: 220px\;" valign="top">\n									<table border="0" cellpadding="0" cellspacing="0" style="font-style: inherit\; font-variant: inherit\; font-weight: inherit\; font-stretch: inherit\; font-size: 11pt\; line-height: inherit\; border-collapse: collapse\;" width="100%">\n										<tbody>\n											<tr style="font-size: 11pt\;">\n												<td class="x_ao_SignatureBlock" id="x_B1588101236131" style="font-size: 11pt\; border-collapse: collapse\; padding: 0px\;" valign="top"><span style="font-size:14px\;"><span style="font-family:arial\;"><a data-linkindex="4" name="x_B1588101236131" style="margin: 0px\; padding: 0px\; border-width: 0px\; border-style: initial\; border-color: initial\; font: inherit\; vertical-align: baseline\;"></a></span></span>\n												<div style="margin: 0px\; padding: 0px\; border: 0px\; font-style: inherit\; font-variant: inherit\; font-weight: inherit\; font-stretch: inherit\; font-size: 11pt\; line-height: 22px\; vertical-align: baseline\;">\n												<p style="font-size: 11pt\; line-height: 22px\;">&nbsp\;</p>\n\n												<p class="x_x_MsoNormal" style="font-size: 11pt\; line-height: 22px\;"><span style="font-size:14px\;"><span style="font-family:arial\;"><strong>Lisa Foster</strong><br />\n												Industry Relations Specialist<br />\n												<strong>Walton County TDC&nbsp\;</strong><br />\n												(850) 267-1216 ext 8512&nbsp\;|&nbsp\;(850) 333-2728 Cell<strong>&nbsp\;</strong>|&nbsp\;<a data-auth="NotApplicable" data-linkindex="5" href="mailto:Lisa@VisitSouthWalton.com" rel="noopener noreferrer" style="margin: 0px\; padding: 0px\; border: 0px\; font-style: inherit\; font-variant: inherit\; font-weight: inherit\; font-stretch: inherit\; font-size: 11pt\; line-height: 22px\; font-family: inherit\; vertical-align: baseline\; color: rgb(40\, 128\, 187)\;" target="_blank">Lisa@VisitSouthWalton.com</a></span></span></p>\n												</div>\n												</td>\n											</tr>\n										</tbody>\n									</table>\n									</td>\n								</tr>\n							</tbody>\n						</table>\n						</td>\n					</tr>\n				</tbody>\n			</table>\n			</td>\n		</tr>\n	</tbody>\n</table>\n
LOCATION:
UID:e.885.31912
SEQUENCE:3
DTSTAMP:20260422T142613Z
URL:https://business.waltonareachamber.com/events/details/wcem-holds-hurricane-preparedness-zoom-31912
END:VEVENT

END:VCALENDAR
