BEGIN:VCALENDAR
VERSION:2.0
PRODID:-//ChamberMaster//Event Calendar 2.0//EN
METHOD:PUBLISH
X-PUBLISHED-TTL:P3D
REFRESH-INTERVAL:P3D
CALSCALE:GREGORIAN
BEGIN:VEVENT
DTSTART:20211201T230000Z
DTEND:20211202T020000Z
X-MICROSOFT-CDO-ALLDAYEVENT:FALSE
SUMMARY:Wednesday Night Bonfire at The Bay
DESCRIPTION:Wednesday Night Bonfire on the Beach at The Bay - 5-8pm:\n\n\n\nJune 7: Sugarcane Jane\n\nJune 14: Jared Herzog\n\nJune 21: Dikki Du and the Zydeco Krewe\n\nJune 28: The New Cahoots\n\n \nHappy Hour at The Bay - 3-5PM daily - half off most cocktails and select house wine by the glass and $4 Shock Top beer.\n\n\n\nSunday Pickin' at The Bay with Mike Whitty and Friends is from 4-8PM every Sunday. Mike brings in new musicians to play every week. We always post who is playing by Saturday\, so check The Bay's Facebook or Instagram pages for details ahead of the event.\n\n\n\nMore info: baysouthwalton.com
X-ALT-DESC;FMTTYPE=text/html:<div style="color:rgb(0\, 0\, 0)\;font-family:Calibri\;font-size:14px\;">&nbsp\;</div>\n\n<div style="color:rgb(0\, 0\, 0)\;font-family:Calibri\;font-size:14px\;">\n<div>\n<div><br />\n<span style="font-size:14px\;"><span style="font-family:arial\;">Wednesday Night Bonfire on the Beach at The Bay - 5-8pm:</span></span>\n\n<div>\n<div style="color:rgb(34\, 34\, 34)\;font-family:Arial\, Helvetica\, sans-serif\;font-size:small\;">\n<div>June 7: Sugarcane Jane<br />\nJune 14: Jared Herzog<br />\nJune 21: Dikki Du and the Zydeco Krewe<br />\nJune 28: The New Cahoots</div>\n\n<div>&nbsp\;</div>\nHappy Hour at The Bay - 3-5PM daily - half off most cocktails and select house wine by the glass and $4 Shock Top beer.<br />\n<br />\nSunday Pickin&#39\; at The Bay with Mike Whitty and Friends is from 4-8PM every Sunday. Mike brings in new musicians to play every week. We always post who is playing by Saturday\, so check The Bay&#39\;s Facebook or Instagram pages for details ahead of the event.</div>\n</div>\n</div>\n</div>\n<span style="font-size:14px\;"><span style="font-family:arial\;">More info:&nbsp\;<a href="http://baysouthwalton.com/" style="color:blue\;" target="_blank" title="http://baysouthwalton.com/">baysouthwalton.com</a></span></span></div>\n
LOCATION:
UID:e.885.32669
SEQUENCE:3
DTSTAMP:20260423T080559Z
URL:https://business.waltonareachamber.com/events/details/wednesday-night-bonfire-at-the-bay-32669
END:VEVENT

END:VCALENDAR
