BEGIN:VCALENDAR
VERSION:2.0
PRODID:-//ChamberMaster//Event Calendar 2.0//EN
METHOD:PUBLISH
X-PUBLISHED-TTL:P3D
REFRESH-INTERVAL:P3D
CALSCALE:GREGORIAN
BEGIN:VEVENT
DTSTART:20211124T230000Z
DTEND:20211125T020000Z
X-MICROSOFT-CDO-ALLDAYEVENT:FALSE
SUMMARY:Wednesday Night Bonfire "Dion Jones and The Neon Tears"
DESCRIPTION:The Bay:\n\n\n\nThe Wednesday Night Bonfire flyer is attached. There is an Instagram story size as well.\n\n\n\nWednesday Night Bonfire on the Beach at The Bay - 5-8pm:\n\nNov 3 - The Cosmic Rascals\n\nNov 10 - Casey Kearney\n\nNov 17 - Max McCann \n\nNov 24 - Dion Jones and The Neon Tears\n \nSunday Pickin' at The Bay with Mike Whitty and Friends is from 4-8PM every Sunday. Mike brings in new musicians to play every week. We always post who is playing by Saturday\, so check The Bay's Facebook or Instagram pages for details ahead of the event.\n\n \nHappy Hour at The Bay - 4-6PM daily - half off most cocktails and wine by the glass and $1 off beer.\n\n \nMore info: baysouthwalton.com
X-ALT-DESC;FMTTYPE=text/html:<div style="color:rgb(0\, 0\, 0)\;"><strong><em>The Bay:</em></strong></div>\n\n<div style="color:rgb(0\, 0\, 0)\;">\n<div>\n<div>The&nbsp\;Wednesday Night Bonfire flyer is attached. There is an Instagram story size as well.</div>\n\n<div><br />\nWednesday Night Bonfire on the Beach at The Bay - 5-8pm:<br />\nNov 3 - The Cosmic Rascals<br />\nNov 10 - Casey Kearney<br />\nNov 17 - Max McCann&nbsp\;<br />\nNov 24 - Dion Jones and The Neon Tears\n<div>&nbsp\;</div>\nSunday Pickin&#39\; at The Bay with Mike Whitty and Friends&nbsp\;is from 4-8PM every Sunday. Mike brings in new&nbsp\;musicians&nbsp\;to play every week. We always post who is playing by Saturday\, so check&nbsp\;The&nbsp\;Bay&#39\;s Facebook or Instagram pages for details ahead of&nbsp\;the&nbsp\;event.</div>\n\n<div>&nbsp\;</div>\nHappy Hour at The Bay - 4-6PM daily - half off most cocktails and wine by the glass and $1 off beer.</div>\n\n<div>&nbsp\;</div>\nMore info:&nbsp\;<a href="http://baysouthwalton.com/" style="color:blue\;" target="_blank" title="http://baysouthwalton.com">baysouthwalton.com</a></div>\n
LOCATION:
UID:e.885.32614
SEQUENCE:3
DTSTAMP:20260423T044219Z
URL:https://business.waltonareachamber.com/events/details/wednesday-night-bonfire-dion-jones-and-the-neon-tears-32614
END:VEVENT

END:VCALENDAR
