BEGIN:VCALENDAR
VERSION:2.0
PRODID:-//ChamberMaster//Event Calendar 2.0//EN
METHOD:PUBLISH
X-PUBLISHED-TTL:P3D
REFRESH-INTERVAL:P3D
CALSCALE:GREGORIAN
BEGIN:VEVENT
DTSTART:20210331T220000Z
DTEND:20210401T010000Z
X-MICROSOFT-CDO-ALLDAYEVENT:FALSE
SUMMARY:Wednesday Night Bonfire on the Beach at The Bay
DESCRIPTION:Wednesday Night Bonfire on the Beach at The Bay - 5-8pm (except St. Paddy's Day):\n\nMarch 3: The Shakedown\n\nMarch 10: Dion Jones and the Neon Tears\n\nMarch 17: 1-4 the Luke Langford band AND THEN 5-8 Forrest Williams Band - St. Paddy's Day party info to come.\n\nMarch 24: The Rhino Jockeys\n\nMarch 31 Sand Ole Opry with Mike Whitty and Chris Alvarado
X-ALT-DESC;FMTTYPE=text/html:<span style="font-size:14px\;"><span style="font-family:arial\;"><strong>Wednesday Night Bonfire on&nbsp\;the&nbsp\;Beach at&nbsp\;The&nbsp\;Bay&nbsp\;- 5-8pm (except St. Paddy&#39\;s Day):</strong><br />\nMarch 3: The Shakedown<br />\nMarch 10: Dion Jones and the Neon Tears<br />\nMarch 17: 1-4 the Luke Langford band AND THEN 5-8 Forrest Williams Band - St. Paddy&#39\;s Day party info to come.<br />\nMarch 24: The Rhino Jockeys<br />\nMarch 31 Sand Ole Opry with Mike Whitty and Chris Alvarado</span></span>
LOCATION:The Bay Restaurant
UID:e.885.29147
SEQUENCE:3
DTSTAMP:20260422T111416Z
URL:https://business.waltonareachamber.com/events/details/wednesday-night-bonfire-on-the-beach-at-the-bay-03-31-2021-29147
END:VEVENT

END:VCALENDAR
