BEGIN:VCALENDAR
VERSION:2.0
PRODID:-//ChamberMaster//Event Calendar 2.0//EN
METHOD:PUBLISH
X-PUBLISHED-TTL:P3D
REFRESH-INTERVAL:P3D
CALSCALE:GREGORIAN
BEGIN:VEVENT
DTSTART:20210407T220000Z
DTEND:20210408T010000Z
X-MICROSOFT-CDO-ALLDAYEVENT:FALSE
SUMMARY:Wednesday Night Bonfire on the Beach at The Bay
DESCRIPTION:Wednesday Night Bonfire on the Beach at The Bay - 5-8pm:\n\nApril 7: Bookoo Groove\n\nApril 14: The Shakedown\n\nApril 21: The Rhino Jockeys\n\nApril 28: Chris Alvarado Trio\n\n \nHappy Hour at The Bay - 4-6PM daily - half off most cocktails and wine by the glass and $1 off beer.\n\n \n\nMore info: baysouthwalton.com
X-ALT-DESC;FMTTYPE=text/html:<span style="font-size:14px\;"><span style="font-family:arial\;"><span style="color: rgb(32\, 31\, 30)\;">Wednesday Night Bonfire on&nbsp\;the&nbsp\;Beach at&nbsp\;The&nbsp\;Bay&nbsp\;- 5-8pm:</span><br style="color: rgb(32\, 31\, 30)\; font-family: &quot\;Segoe UI&quot\;\, &quot\;Segoe UI Web (West European)&quot\;\, &quot\;Segoe UI&quot\;\, -apple-system\, BlinkMacSystemFont\, Roboto\, &quot\;Helvetica Neue&quot\;\, sans-serif\; font-size: 15px\;" />\n<span style="color: rgb(32\, 31\, 30)\;">April 7: Bookoo Groove</span><br style="color: rgb(32\, 31\, 30)\; font-family: &quot\;Segoe UI&quot\;\, &quot\;Segoe UI Web (West European)&quot\;\, &quot\;Segoe UI&quot\;\, -apple-system\, BlinkMacSystemFont\, Roboto\, &quot\;Helvetica Neue&quot\;\, sans-serif\; font-size: 15px\;" />\n<span style="color: rgb(32\, 31\, 30)\;">April 14: The Shakedown</span><br style="color: rgb(32\, 31\, 30)\; font-family: &quot\;Segoe UI&quot\;\, &quot\;Segoe UI Web (West European)&quot\;\, &quot\;Segoe UI&quot\;\, -apple-system\, BlinkMacSystemFont\, Roboto\, &quot\;Helvetica Neue&quot\;\, sans-serif\; font-size: 15px\;" />\n<span style="color: rgb(32\, 31\, 30)\;">April 21: The Rhino Jockeys</span><br style="color: rgb(32\, 31\, 30)\; font-family: &quot\;Segoe UI&quot\;\, &quot\;Segoe UI Web (West European)&quot\;\, &quot\;Segoe UI&quot\;\, -apple-system\, BlinkMacSystemFont\, Roboto\, &quot\;Helvetica Neue&quot\;\, sans-serif\; font-size: 15px\;" />\n<span style="color: rgb(32\, 31\, 30)\;">April 28: Chris Alvarado Trio</span></span></span><br />\n&nbsp\;\n<div dir="ltr" style="margin: 0px\; padding: 0px\; border: 0px\; font-variant-numeric: inherit\; font-variant-east-asian: inherit\; font-stretch: inherit\; font-size: 15px\; line-height: inherit\; font-family: &quot\;Segoe UI&quot\;\, &quot\;Segoe UI Web (West European)&quot\;\, &quot\;Segoe UI&quot\;\, -apple-system\, BlinkMacSystemFont\, Roboto\, &quot\;Helvetica Neue&quot\;\, sans-serif\; vertical-align: baseline\; color: rgb(32\, 31\, 30)\;"><span style="font-size:14px\;"><span style="font-family:arial\;">Happy Hour at The Bay - 4-6PM daily - half off most cocktails and wine by the glass and $1 off beer.</span></span></div>\n\n<div dir="ltr" style="margin: 0px\; padding: 0px\; border: 0px\; font-variant-numeric: inherit\; font-variant-east-asian: inherit\; font-stretch: inherit\; font-size: 15px\; line-height: inherit\; font-family: &quot\;Segoe UI&quot\;\, &quot\;Segoe UI Web (West European)&quot\;\, &quot\;Segoe UI&quot\;\, -apple-system\, BlinkMacSystemFont\, Roboto\, &quot\;Helvetica Neue&quot\;\, sans-serif\; vertical-align: baseline\; color: rgb(32\, 31\, 30)\;">&nbsp\;</div>\n\n<div dir="ltr" style="margin: 0px\; padding: 0px\; border: 0px\; font-variant-numeric: inherit\; font-variant-east-asian: inherit\; font-stretch: inherit\; font-size: 15px\; line-height: inherit\; font-family: &quot\;Segoe UI&quot\;\, &quot\;Segoe UI Web (West European)&quot\;\, &quot\;Segoe UI&quot\;\, -apple-system\, BlinkMacSystemFont\, Roboto\, &quot\;Helvetica Neue&quot\;\, sans-serif\; vertical-align: baseline\; color: rgb(32\, 31\, 30)\;"><span style="font-size:14px\;"><span style="font-family:arial\;">More info:&nbsp\;<a data-auth="NotApplicable" data-linkindex="0" href="http://baysouthwalton.com/" rel="noopener noreferrer" style="margin: 0px\; padding: 0px\; border: 0px\; font: inherit\; vertical-align: baseline\;" target="_blank">baysouthwalton.com</a></span></span></div>\n\n<div>&nbsp\;</div>\n
LOCATION:The Bay 24215 Hwy. 331 South\, Santa Rosa Beach\, FL 32459
UID:e.885.29427
SEQUENCE:3
DTSTAMP:20260422T125053Z
URL:https://business.waltonareachamber.com/events/details/wednesday-night-bonfire-on-the-beach-at-the-bay-29427
END:VEVENT

END:VCALENDAR
