BEGIN:VCALENDAR
VERSION:2.0
PRODID:-//ChamberMaster//Event Calendar 2.0//EN
METHOD:PUBLISH
X-PUBLISHED-TTL:P3D
REFRESH-INTERVAL:P3D
CALSCALE:GREGORIAN
BEGIN:VEVENT
DTSTART:20210505T220000Z
DTEND:20210506T010000Z
X-MICROSOFT-CDO-ALLDAYEVENT:FALSE
SUMMARY:Wednesday Night Bonfire on the Beach at The Bay
DESCRIPTION:Wednesday Night Bonfire on the Beach at The Bay - 5-8pm:\n\nMay 5: Mose Wilson\n\nMay 12: The Cosmic Rascals \n\nMay 19: The Shakedown \n\nMay 26: Will Thompson Band
X-ALT-DESC;FMTTYPE=text/html:<span style="font-size:14px\;"><span style="font-family:arial\;"><span style="color: rgb(32\, 31\, 30)\;">Wednesday Night Bonfire on&nbsp\;the&nbsp\;Beach at&nbsp\;The&nbsp\;Bay&nbsp\;- 5-8pm:</span><br style="color: rgb(32\, 31\, 30)\; font-family: &quot\;Segoe UI&quot\;\, &quot\;Segoe UI Web (West European)&quot\;\, &quot\;Segoe UI&quot\;\, -apple-system\, BlinkMacSystemFont\, Roboto\, &quot\;Helvetica Neue&quot\;\, sans-serif\; font-size: 15px\;" />\n<span style="color: rgb(32\, 31\, 30)\;">May 5: Mose Wilson</span><br style="color: rgb(32\, 31\, 30)\; font-family: &quot\;Segoe UI&quot\;\, &quot\;Segoe UI Web (West European)&quot\;\, &quot\;Segoe UI&quot\;\, -apple-system\, BlinkMacSystemFont\, Roboto\, &quot\;Helvetica Neue&quot\;\, sans-serif\; font-size: 15px\;" />\n<span style="color: rgb(32\, 31\, 30)\;">May 12: The Cosmic Rascals&nbsp\;</span><br style="color: rgb(32\, 31\, 30)\; font-family: &quot\;Segoe UI&quot\;\, &quot\;Segoe UI Web (West European)&quot\;\, &quot\;Segoe UI&quot\;\, -apple-system\, BlinkMacSystemFont\, Roboto\, &quot\;Helvetica Neue&quot\;\, sans-serif\; font-size: 15px\;" />\n<span style="color: rgb(32\, 31\, 30)\;">May 19: The Shakedown&nbsp\;</span><br style="color: rgb(32\, 31\, 30)\; font-family: &quot\;Segoe UI&quot\;\, &quot\;Segoe UI Web (West European)&quot\;\, &quot\;Segoe UI&quot\;\, -apple-system\, BlinkMacSystemFont\, Roboto\, &quot\;Helvetica Neue&quot\;\, sans-serif\; font-size: 15px\;" />\n<span style="color: rgb(32\, 31\, 30)\;">May 26: Will Thompson Band&nbsp\;</span></span></span>\n<div>&nbsp\;</div>\n
LOCATION:
UID:e.885.30084
SEQUENCE:3
DTSTAMP:20260422T142758Z
URL:https://business.waltonareachamber.com/events/details/wednesday-night-bonfire-on-the-beach-at-the-bay-30084
END:VEVENT

END:VCALENDAR
