BEGIN:VCALENDAR
VERSION:2.0
PRODID:-//ChamberMaster//Event Calendar 2.0//EN
METHOD:PUBLISH
X-PUBLISHED-TTL:P3D
REFRESH-INTERVAL:P3D
CALSCALE:GREGORIAN
BEGIN:VEVENT
DTSTART:20211027T220000Z
DTEND:20211028T010000Z
X-MICROSOFT-CDO-ALLDAYEVENT:FALSE
SUMMARY:Wednesday Night Bonfire on the Beach at The Bay - 5-8pm:
DESCRIPTION:Wednesday Night Bonfire on the Beach at The Bay - 5-8pm:\n\nOct 6: Forrest Williams Band\n\nOct 13:Tanglewood (Nashville) \n\nOct 20: Dion Jones and The Neon Tears\n\nOct 27 Shake Town\n\n\n \nSunday Pickin' at The Bay with Mike Whitty and Friends is from 4-8PM every Sunday. Mike brings in new musicians to play every week. We always post who is playing by Saturday\, so check The Bay's Facebook or Instagram pages for details ahead of the event.\n\n \nHappy Hour at The Bay - 4-6PM daily - half off most cocktails and wine by the glass and $1 off beer.\n\n \n\nMore info: baysouthwalton.com
X-ALT-DESC;FMTTYPE=text/html:<div style="color:rgb(0\, 0\, 0)\;">\n<div><span style="font-size:14px\;"><span style="font-family:arial\;">Wednesday Night Bonfire on&nbsp\;the&nbsp\;Beach at&nbsp\;The&nbsp\;Bay&nbsp\;- 5-8pm:</span></span>\n<div>\n<div><span style="font-size:14px\;"><span style="font-family:arial\;">Oct 6: Forrest Williams Band</span></span></div>\n\n<div><span style="font-size:14px\;"><span style="font-family:arial\;">Oct 13:Tanglewood (Nashville)&nbsp\;</span></span></div>\n\n<div><span style="font-size:14px\;"><span style="font-family:arial\;">Oct 20: Dion Jones and The Neon Tears</span></span></div>\n\n<div><span style="font-size:14px\;"><span style="font-family:arial\;">Oct 27 Shake Town</span></span></div>\n</div>\n\n<div><span style="font-size:14px\;"><span style="font-family:arial\;">&nbsp\;</span></span></div>\n<span style="font-size:14px\;"><span style="font-family:arial\;">Sunday Pickin&#39\; at The Bay with Mike Whitty and Friends&nbsp\;is from 4-8PM every Sunday. Mike brings in new&nbsp\;musicians&nbsp\;to play every week. We always post who is playing by Saturday\, so check&nbsp\;The&nbsp\;Bay&#39\;s Facebook or Instagram pages for details ahead of&nbsp\;the&nbsp\;event.</span></span></div>\n\n<div><span style="font-size:14px\;"><span style="font-family:arial\;">&nbsp\;</span></span></div>\n<span style="font-size:14px\;"><span style="font-family:arial\;">Happy Hour at The Bay - 4-6PM daily - half off most cocktails and wine by the glass and $1 off beer.</span></span></div>\n\n<div style="color:rgb(0\, 0\, 0)\;"><span style="font-size:14px\;"><span style="font-family:arial\;">&nbsp\;</span></span></div>\n\n<div style="color:rgb(0\, 0\, 0)\;"><span style="font-size:14px\;"><span style="font-family:arial\;">More info:&nbsp\;<a href="http://baysouthwalton.com/" style="color:blue\;" target="_blank" title="http://baysouthwalton.com/">baysouthwalton.com</a></span></span></div>\n
LOCATION:The Bay
UID:e.885.32449
SEQUENCE:3
DTSTAMP:20260423T044017Z
URL:https://business.waltonareachamber.com/events/details/wednesday-night-bonfire-on-the-beach-at-the-bay-5-8pm-32449
END:VEVENT

END:VCALENDAR
