BEGIN:VCALENDAR
VERSION:2.0
PRODID:-//ChamberMaster//Event Calendar 2.0//EN
METHOD:PUBLISH
X-PUBLISHED-TTL:P3D
REFRESH-INTERVAL:P3D
CALSCALE:GREGORIAN
BEGIN:VEVENT
DTSTART:20240801T000000Z
DTEND:20240801T020000Z
X-MICROSOFT-CDO-ALLDAYEVENT:FALSE
SUMMARY:Wednesday Night Concert Series at The Village of Baytowne Wharf
DESCRIPTION:This summer\, sit back and relax as you take in the cool\, crisp air and enjoy live entertainment. The concert series will feature both local and regional talent from a variety of genres. The concert begins at 7:00 PM on the Events Plaza Stage.\n\n \n\nLive Music Schedule\n\nJuly 3: Horseshoe Kitty\n\nJuly 10: Dion Jones & The Neon Tears\n\nJuly 17: The HooDoos\n\nJuly 24: Ben Loftin & The Family\n\nJuly 31: Duchess
X-ALT-DESC;FMTTYPE=text/html:<span style="color:#40454A"><span style="font-family:arial\,sans-serif">This summer</span></span>\, sit back and relax as you take in the cool\, crisp air and enjoy live entertainment. The concert series will feature both local and regional talent from a variety of genres. The concert begins at 7:00 PM<span style="color:#40454A"><span style="font-family:arial\,sans-serif">&nbsp\;on the Events Plaza Stage.</span></span><br />\n<span style="color:#40454A"><span style="font-family:arial\,sans-serif">&nbsp\;<br />\n<strong>Live Music Schedule</strong><br />\n<strong>July 3:</strong>&nbsp\;Horseshoe Kitty<br />\n<strong>July 10:</strong>&nbsp\;Dion Jones &amp\; The Neon Tears<br />\n<strong>July 17:&nbsp\;</strong>The HooDoos</span></span><br />\n<strong><span style="color:#40454A"><span style="font-family:arial\,sans-serif">July 24:&nbsp\;</span></span></strong><span style="color:#40454A"><span style="font-family:arial\,sans-serif">Ben Loftin &amp\; The Family</span></span><br />\n<strong><span style="color:#40454A"><span style="font-family:arial\,sans-serif">July 31:</span></span></strong><span style="color:#40454A"><span style="font-family:arial\,sans-serif">&nbsp\;Duchess</span></span>
LOCATION:The Village of Baytowne Wharf 9100 Baytowne Boulevard Miramar Beach\, FL 32550
UID:e.885.41548
SEQUENCE:3
DTSTAMP:20260425T170910Z
URL:https://business.waltonareachamber.com/events/details/wednesday-night-concert-series-at-the-village-of-baytowne-wharf-07-31-2024-41548
END:VEVENT

END:VCALENDAR
