BEGIN:VCALENDAR
VERSION:2.0
PRODID:-//ChamberMaster//Event Calendar 2.0//EN
METHOD:PUBLISH
X-PUBLISHED-TTL:P3D
REFRESH-INTERVAL:P3D
CALSCALE:GREGORIAN
BEGIN:VEVENT
DTSTART:20250403T000000Z
DTEND:20250403T020000Z
X-MICROSOFT-CDO-ALLDAYEVENT:FALSE
SUMMARY:Wednesday Night Concert Series -- Tribute Series
DESCRIPTION:The Wednesday Night Concert Series returns to Baytowne! This spring sit back and relax\, as you take in the cool crisp air\, and enjoy live entertainment. The concert series will feature both local and regional talent from a variety of genres. Concert begins at 7:00 pm on the Events Plaza Stage.
X-ALT-DESC;FMTTYPE=text/html:<span style="color:#40454A"><span style="font-family:arial\,sans-serif"><span style="font-size:11.0pt">The Wednesday Night Concert Series returns to Baytowne! This spring sit back and relax\, as you take in the cool crisp air\, and enjoy live entertainment. The concert series will feature both local and regional talent from a variety of genres. Concert begins at 7:00 pm on the Events Plaza Stage.</span></span></span>
LOCATION:The Village of Baytowne Wharf 9100 Baytowne Boulevard Miramar Beach\, FL 32550
UID:e.885.45292
SEQUENCE:3
DTSTAMP:20260423T033121Z
URL:https://business.waltonareachamber.com/events/details/wednesday-night-concert-series-tribute-series-04-02-2025-45292
END:VEVENT

END:VCALENDAR
