BEGIN:VCALENDAR
VERSION:2.0
PRODID:-//ChamberMaster//Event Calendar 2.0//EN
METHOD:PUBLISH
X-PUBLISHED-TTL:P3D
REFRESH-INTERVAL:P3D
CALSCALE:GREGORIAN
BEGIN:VEVENT
DTSTART:20220423T163000Z
DTEND:20220423T193000Z
X-MICROSOFT-CDO-ALLDAYEVENT:FALSE
SUMMARY:Western Lake Painting with Estelle Grengs
DESCRIPTION:Learn the art of Impasto with Acrylic paints- as you paint the beautiful scenery of Western Lake! Artist Estelle Grengs will guide you from start to finish through a full landscape painting of the popular location- no experience needed\, beginners welcome! Get creative behind the canvas and enjoy an afternoon of fun and enjoyment!
X-ALT-DESC;FMTTYPE=text/html:Learn the art of Impasto with Acrylic paints- as you paint the beautiful scenery of Western Lake! Artist Estelle Grengs will guide you from start to finish through a full landscape painting of the popular location- no experience needed\, beginners welcome! Get creative behind the canvas and enjoy an afternoon of fun and enjoyment!
LOCATION:J.Leon Gallery and Studio
UID:e.885.33618
SEQUENCE:3
DTSTAMP:20260423T125644Z
URL:https://business.waltonareachamber.com/events/details/western-lake-painting-with-estelle-grengs-33618
END:VEVENT

END:VCALENDAR
