BEGIN:VCALENDAR
VERSION:2.0
PRODID:-//ChamberMaster//Event Calendar 2.0//EN
METHOD:PUBLISH
X-PUBLISHED-TTL:P3D
REFRESH-INTERVAL:P3D
CALSCALE:GREGORIAN
BEGIN:VEVENT
DTSTART:20220312T213000Z
DTEND:20220313T003000Z
X-MICROSOFT-CDO-ALLDAYEVENT:FALSE
SUMMARY:Wild Game Dinner & Auction
DESCRIPTION:The Taylor Haugen Foundation is hosting the "real Forest Gump" - Medal of Honor winner Sammy Lee Davis.  He will be our guest speaker for the night and have you rolling in laughter as well as moments in tears.  In addition to his heroic story\, we will be entertained by the musical talents of Coconut Radio.  The event is an outdoor dinner on the Sullivan Farm in Walton Plantation where we will be dining under the lights on Wild Game dishes as well as one Mystery Meat.  There will also be a Live Auction.  A Private Meet & Greet and book signing will be the Friday prior at The Henderson for Medal of Honor Level Sponsors only.
X-ALT-DESC;FMTTYPE=text/html:The Taylor Haugen Foundation is hosting the &ldquo\;real Forest Gump&rdquo\; - Medal of Honor winner Sammy Lee Davis. &nbsp\;He will be our guest speaker for the night and have you rolling in laughter as well as moments in tears. &nbsp\;In addition to his heroic story\, we will be entertained by the musical talents of Coconut Radio. &nbsp\;The event is an outdoor dinner on the Sullivan Farm in Walton Plantation where we will be dining under the lights on Wild Game dishes as well as one Mystery Meat. &nbsp\;There will also be a Live Auction. &nbsp\;A Private Meet &amp\; Greet and book signing will be the Friday prior at The Henderson for Medal of Honor Level Sponsors only.<br />\n&nbsp\;
LOCATION:
UID:e.885.33297
SEQUENCE:3
DTSTAMP:20260423T111257Z
URL:https://business.waltonareachamber.com/events/details/wild-game-dinner-auction-33297
END:VEVENT

END:VCALENDAR
