BEGIN:VCALENDAR
VERSION:2.0
PRODID:-//ChamberMaster//Event Calendar 2.0//EN
METHOD:PUBLISH
X-PUBLISHED-TTL:P3D
REFRESH-INTERVAL:P3D
CALSCALE:GREGORIAN
BEGIN:VEVENT
DTSTART:20220504T210000Z
DTEND:20220505T000000Z
X-MICROSOFT-CDO-ALLDAYEVENT:FALSE
SUMMARY:Wine and Design at Renovation Flooring
DESCRIPTION:Please join us for this year's first Wine & Design Event! Local designers\, builders\, and industry professionals are all welcome to our Design Showroom. Cambria Quartz & Duchateau will be presenting their latest products. Prominent local artist Justin Gaffrey will introduce his custom painting as the centerpiece of Renovation Flooring Design Showroom.\n\nCome enjoy some wine and hors d'oeuvres and mingle.\n\nStop by Renovation Flooring on Wednesday night between 4pm and 7pm.\n\nKnown for beautiful hardwood floors\, DUCHATEAU makes extraordinary architectural finishes for residential and commercial spaces. Explore the beauty\, find your inspiration\, and connect with us.\n\nCambria brings the high standards of an American company and the passion of a family-owned business to everything they do. They're dedicated to making and keeping a bold\, simple promise: to transform quartz into breathtaking surfaces and exceptional customer experiences.\n\nRenovation Flooring is a full service flooring design showroom with the best selection of products in our area. We offer a wide array of carpet\, tile\, stone\, waterproof luxury vinyl\, hardwood\, laminate\, and decorative tile on the Emerald Coast.
X-ALT-DESC;FMTTYPE=text/html:<div class="kvgmc6g5 cxmmr5t8 oygrvhab hcukyx3x c1et5uql" style="overflow-wrap: break-word\; margin: 0px\; font-family: &quot\;Segoe UI Historic&quot\;\, &quot\;Segoe UI&quot\;\, Helvetica\, Arial\, sans-serif\; color: rgb(5\, 5\, 5)\; font-size: 15px\;">Please join us for this year&#39\;s first Wine &amp\; Design Event! Local designers\, builders\, and industry professionals are all welcome to our Design Showroom. Cambria Quartz &amp\; Duchateau will be presenting their latest products. Prominent local artist Justin Gaffrey will introduce his custom painting as the centerpiece of Renovation Flooring Design Showroom.<br />\nCome enjoy some wine and hors d&#39\;oeuvres and mingle.</div>\n\n<div class="cxmmr5t8 oygrvhab hcukyx3x c1et5uql o9v6fnle" style="overflow-wrap: break-word\; margin: 0.5em 0px 0px\; font-family: &quot\;Segoe UI Historic&quot\;\, &quot\;Segoe UI&quot\;\, Helvetica\, Arial\, sans-serif\; color: rgb(5\, 5\, 5)\; font-size: 15px\;">Stop by Renovation Flooring on Wednesday night between 4pm and 7pm.</div>\n\n<div class="cxmmr5t8 oygrvhab hcukyx3x c1et5uql o9v6fnle" style="overflow-wrap: break-word\; margin: 0.5em 0px 0px\; font-family: &quot\;Segoe UI Historic&quot\;\, &quot\;Segoe UI&quot\;\, Helvetica\, Arial\, sans-serif\; color: rgb(5\, 5\, 5)\; font-size: 15px\;">Known for beautiful hardwood floors\, DUCHATEAU makes extraordinary architectural finishes for residential and commercial spaces. Explore the beauty\, find your inspiration\, and connect with us.</div>\n\n<div class="cxmmr5t8 oygrvhab hcukyx3x c1et5uql o9v6fnle" style="overflow-wrap: break-word\; margin: 0.5em 0px 0px\; font-family: &quot\;Segoe UI Historic&quot\;\, &quot\;Segoe UI&quot\;\, Helvetica\, Arial\, sans-serif\; color: rgb(5\, 5\, 5)\; font-size: 15px\;">Cambria brings the high standards of an American company and the passion of a family-owned business to everything they do. They&rsquo\;re dedicated to making and keeping a bold\, simple promise: to transform quartz into breathtaking surfaces and exceptional customer experiences.<br />\n<span style="color: rgb(5\, 5\, 5)\; font-family: &quot\;Segoe UI Historic&quot\;\, &quot\;Segoe UI&quot\;\, Helvetica\, Arial\, sans-serif\; font-size: 15px\;">Renovation Flooring is a full service flooring design showroom with the best selection of products in our area. We offer a wide array of carpet\, tile\, stone\, waterproof luxury vinyl\, hardwood\, laminate\, and decorative tile on the Emerald Coast.</span></div>\n
LOCATION:
UID:e.885.33861
SEQUENCE:3
DTSTAMP:20260423T142809Z
URL:https://business.waltonareachamber.com/events/details/wine-and-design-at-renovation-flooring-33861
END:VEVENT

END:VCALENDAR
