BEGIN:VCALENDAR
VERSION:2.0
PRODID:-//ChamberMaster//Event Calendar 2.0//EN
METHOD:PUBLISH
X-PUBLISHED-TTL:P3D
REFRESH-INTERVAL:P3D
CALSCALE:GREGORIAN
BEGIN:VEVENT
DTSTART:20211204T170000Z
DTEND:20211205T020000Z
X-MICROSOFT-CDO-ALLDAYEVENT:FALSE
SUMMARY:Winter\, Wonder Watersound
DESCRIPTION:Celebrate the season with an afternoon of festive activities. Shop for artisanal foods and one of a kind holiday gifts at the Watersound Town Center Farmer's Market. Strolling carolers and a children's play will round out the day. Come back that night for a viewing of Dr. Seuss's The Grinch. FREE and Open to the Public. 10AM   2pm Watersound Town Center Farmer's Market 11AM - Every Christmas Story Ever Told Enjoy this family friendly live performance presented by the Seaside REP. 12-2PM   Traditional carolers will stroll the Farmer's Market performing holiday favorites 6PM   Dr. Seuss's The Grinch Bundle up for a cozy holiday movie and enjoy free hot coca and cookies
X-ALT-DESC;FMTTYPE=text/html:Celebrate the season with an afternoon of festive activities. Shop for artisanal foods and one of a kind holiday gifts at the Watersound Town Center Farmer&rsquo\;s Market. Strolling carolers and a children&rsquo\;s play will round out the day. Come back that night for a viewing of Dr. Seuss&rsquo\;s The Grinch. FREE and Open to the Public. 10AM &ndash\; 2pm Watersound Town Center Farmer&rsquo\;s Market 11AM - Every Christmas Story Ever Told Enjoy this family friendly live performance presented by the Seaside REP. 12-2PM &ndash\; Traditional carolers will stroll the Farmer&rsquo\;s Market performing holiday favorites 6PM &ndash\; Dr. Seuss&rsquo\;s The Grinch Bundle up for a cozy holiday movie and enjoy free hot coca and cookies
LOCATION:Watersound Town Center
UID:e.885.32662
SEQUENCE:3
DTSTAMP:20260423T080328Z
URL:https://business.waltonareachamber.com/events/details/winter-wonder-watersound-32662
END:VEVENT

END:VCALENDAR
