BEGIN:VCALENDAR
VERSION:2.0
PRODID:-//ChamberMaster//Event Calendar 2.0//EN
METHOD:PUBLISH
X-PUBLISHED-TTL:P3D
REFRESH-INTERVAL:P3D
CALSCALE:GREGORIAN
BEGIN:VEVENT
DTSTART:20211206T160000Z
DTEND:20211207T003000Z
X-MICROSOFT-CDO-ALLDAYEVENT:FALSE
SUMMARY:Women Build Repurpose Project Habitat for Humanity of Walton County\, FL
DESCRIPTION:On Monday\, December 6\, 2021 \n\nbeginning at 10:00 AM and 4:30 PM\n\n \n\nHabitat for Humanity of Walton County\, FL.\, Inc. \n\nwill be partnering with Mary Hong Studio and the Shard Shop of Grayton Beach\n\n\nto bring you a Women Build Repurpose Project. We invite the public to join us for fun and crafts as we gear up for Women Build 2022.\n\nFor a great cause\, Mary Hong will be leading her usual ShardWorx® Art class for 20% OFF the normal rate. The Shard Shop is thrilled to invite participants to the new Walton County Habitat for Humanity ReStore! One part of its mission is to keep quality goods out of landfills. Creating ShardWorx® Art uses the same principle! You may bring your eclectic mix of old jewelry\, broken china\, or fave sea shells and we will create beautiful art with it! Our class time at the ReStore will be 1.5 hours long and each student will create one piece of ShardWorx® Art. Art will be available for pick up the next day. All supplies and materials will be provided. Ages: 6-96 are welcome.\n\nAbout Habitat for Humanity of Walton County\, FL.\, Inc.\n\nHabitat for Humanity partners with people to build homes\, community\, and hope. With your support\, Habitat homeowners achieve the strength\, stability\, and independence they need to build a better life for themselves and for their families. To date our local affiliate has built 58 homes in Walton County. \n\n About Walton County Habitat ReStore \n\nHabitat ReStore is a home improvement store and resale center that sells donated new and gently used furniture\, home accessories\, building materials\, and appliances to the public at a fraction of the retail price. Habitat for Humanity uses funds raised by its ReStores to help build homes in partnership with low-income families. Habitat ReStores rely on the generous donations of new and gently used household items\, building supplies\, and furniture to help Habitat create homeownership opportunities. To find out how you can get involved or help\, please call 850-660-6004 or email us at admin@waltoncountyhabitat.org.
X-ALT-DESC;FMTTYPE=text/html:<div style="caret-color: rgb(64\, 63\, 66)\; color: rgb(64\, 63\, 66)\; font-family: Arial\, Verdana\, Helvetica\, sans-serif\; font-size: 12px\; white-space: pre-wrap\; text-align: center\;"><span style="color:#000000\;"><span style="font-family:arial\;"><span style="font-weight: bold\; font-size: 22px\;">On Monday\, December 6\, 2021 </span></span></span></div>\n\n<div style="caret-color: rgb(64\, 63\, 66)\; color: rgb(64\, 63\, 66)\; font-family: Arial\, Verdana\, Helvetica\, sans-serif\; font-size: 12px\; white-space: pre-wrap\; text-align: center\;"><span style="color:#000000\;"><span style="font-family:arial\;"><span style="font-weight: bold\; font-size: 22px\;">beginning at 10:00 AM and 4:30 PM</span></span></span></div>\n\n<div style="caret-color: rgb(64\, 63\, 66)\; color: rgb(64\, 63\, 66)\; font-family: Arial\, Verdana\, Helvetica\, sans-serif\; font-size: 12px\; white-space: pre-wrap\; text-align: center\;">&nbsp\;</div>\n\n<div style="caret-color: rgb(64\, 63\, 66)\; color: rgb(64\, 63\, 66)\; font-family: Arial\, Verdana\, Helvetica\, sans-serif\; font-size: 12px\; white-space: pre-wrap\; text-align: center\;"><span style="color:#000000\;"><span style="font-family:arial\;"><span style="font-size: 14px\;">Habitat for Humanity of Walton County\, FL.\, Inc. </span></span></span></div>\n\n<div style="caret-color: rgb(64\, 63\, 66)\; color: rgb(64\, 63\, 66)\; font-family: Arial\, Verdana\, Helvetica\, sans-serif\; font-size: 12px\; white-space: pre-wrap\; text-align: center\;"><span style="color:#000000\;"><span style="font-family:arial\;"><span style="font-size: 14px\;">will be partnering with&nbsp\;Mary Hong Studio&nbsp\;and the&nbsp\;Shard Shop of Grayton Beach</span></span></span></div>\n\n<div style="caret-color: rgb(64\, 63\, 66)\; color: rgb(64\, 63\, 66)\; font-family: Arial\, Verdana\, Helvetica\, sans-serif\; font-size: 12px\; white-space: pre-wrap\; text-align: center\;">\n<div><span style="color:#000000\;"><span style="font-family:arial\;"><span style="font-size: 14px\;">to bring you a Women Build Repurpose Project. We invite the public to join us for fun and crafts as we gear up for Women Build 2022.</span></span></span></div>\n\n<p style="caret-color: rgb(0\, 0\, 0)\; color: rgb(0\, 0\, 0)\; font-family: Calibri\;"><span style="color:#000000\;"><span style="font-family:arial\;"><span style="font-size: 10pt\;">For a great cause\, Mary Hong will be leading her usual ShardWorx® Art class for 20% OFF the normal rate. The Shard Shop is thrilled to invite participants to the new Walton County Habitat for Humanity ReStore! One part of its mission is to keep quality goods out of landfills. Creating ShardWorx® Art uses the same principle! You may bring your eclectic mix of old jewelry\, broken china\, or fave sea shells and we will create beautiful art with it! Our class time at the ReStore will be 1.5 hours long and each student will create one piece of ShardWorx® Art. Art will be available for pick up the next day. All supplies and materials will be provided. Ages: 6-96 are welcome.</span></span></span></p>\n\n<p style="caret-color: rgb(0\, 0\, 0)\; color: rgb(0\, 0\, 0)\; font-family: Calibri\;"><span style="color:#000000\;"><span style="font-family:arial\;"><b><span style="font-size: 10pt\;">About Habitat for Humanity of Walton County\, FL.\, Inc.</span></b></span></span></p>\n\n<p style="caret-color: rgb(0\, 0\, 0)\; color: rgb(0\, 0\, 0)\; font-family: Calibri\;"><span style="color:#000000\;"><span style="font-family:arial\;"><span style="font-size: 10pt\;">Habitat for Humanity partners with people to build homes\, community\, and hope. With your support\, Habitat homeowners achieve the strength\, stability\, and independence they need to build a better life for themselves and for their families. To date our local affiliate has built 58 homes in Walton County.&nbsp\;</span></span></span></p>\n\n<p style="caret-color: rgb(0\, 0\, 0)\; color: rgb(0\, 0\, 0)\; font-family: Calibri\;"><span style="color:#000000\;"><span style="font-family:arial\;"><span style="font-size: 10.5pt\;">&nbsp\;</span></span><span style="font-family:arial\;"><b><span style="font-size: 10pt\;">About Walton County Habitat ReStore&nbsp\;</span></b></span></span></p>\n\n<p style="caret-color: rgb(0\, 0\, 0)\; color: rgb(0\, 0\, 0)\; font-family: Calibri\;"><span style="font-family:arial\;"><span style="font-size: 10pt\;"><span style="color:#000000\;">Habitat ReStore is a home improvement store and resale center that sells donated new and gently used furniture\, home accessories\, building materials\, and appliances to the public at a fraction of the retail price. Habitat for Humanity uses funds raised by its ReStores to help build homes in partnership with low-income families. Habitat ReStores rely on the generous donations of new and gently used household items\, building supplies\, and furniture to help Habitat create homeownership opportunities. To find out how you can get involved or help\, please call 850-660-6004 or email us at&nbsp\;</span><a href="mailto:admin@waltoncountyhabitat.org" style="color: rgb(0\, 134\, 240) !important\;" title="mailto:admin@waltoncountyhabitat.org"><span style="color:#000000\;">admin@waltoncountyhabitat.org</span></a><span style="color:#000000\;">.</span></span></span></p>\n</div>\n
LOCATION:Habitat for Humanity ReStore 2440 US-98 West Santa Rosa Beach\, FL 32459
UID:e.885.32667
SEQUENCE:3
DTSTAMP:20260423T063844Z
URL:https://business.waltonareachamber.com/events/details/women-build-repurpose-project-habitat-for-humanity-of-walton-county-fl-32667
END:VEVENT

END:VCALENDAR
