BEGIN:VCALENDAR
VERSION:2.0
PRODID:-//ChamberMaster//Event Calendar 2.0//EN
METHOD:PUBLISH
X-PUBLISHED-TTL:P3D
REFRESH-INTERVAL:P3D
CALSCALE:GREGORIAN
BEGIN:VEVENT
DTSTART:20220512T223000Z
DTEND:20220513T003000Z
X-MICROSOFT-CDO-ALLDAYEVENT:FALSE
SUMMARY:Young Professionals of Walton County Presents Mingle at Macho
DESCRIPTION:Join The Young Professionals of Walton County on Thursday\, May 12th for Mingle at Macho.  Attendees will enjoy a complimentary margarita and chips and salsa provided by Mach Taco.
X-ALT-DESC;FMTTYPE=text/html:Join The Young Professionals of Walton County on Thursday\, May 12th for Mingle at Macho.&nbsp\; Attendees will enjoy a complimentary margarita and chips and salsa provided by Mach Taco.
LOCATION:
UID:e.885.33869
SEQUENCE:3
DTSTAMP:20260423T143056Z
URL:https://business.waltonareachamber.com/events/details/young-professionals-of-walton-county-presents-mingle-at-macho-33869
END:VEVENT

END:VCALENDAR
