BEGIN:VCALENDAR
VERSION:2.0
PRODID:-//ChamberMaster//Event Calendar 2.0//EN
METHOD:PUBLISH
X-PUBLISHED-TTL:P3D
REFRESH-INTERVAL:P3D
CALSCALE:GREGORIAN
BEGIN:VEVENT
DTSTART:20251113T000000Z
DTEND:20251113T010000Z
X-MICROSOFT-CDO-ALLDAYEVENT:FALSE
SUMMARY:YP Book Club
DESCRIPTION:Young Professionals of Walton County November Book Club\n\nJoin the Young Professionals of Walton County for our November Book Club\, featuring "Leaders Eat Last: Why Some Teams Pull Together and Others Don't" by Simon Sinek.\n\nIn this inspiring read\, Sinek explores the principles behind strong\, trusting teams   and how true leaders create environments where people feel valued\, supported\, and motivated to succeed. Whether you're leading a team\, building your career\, or simply looking to grow personally and professionally\, this book offers practical insights you can apply right away.\n\nThis month's discussion will take place at:\n\n  Elite Cabinet Designs\, 11662 US Hwy 98 W\, Miramar Beach\, FL 32550\n\n  November 12\, 2025\n\n  Get the Book: Amazon   Leaders Eat Last\n\n  Listen on Audible: Leaders Eat Last Audiobook by Simon Sinek\n\n Listen on Spotify: "Leaders Eat Last: Why Some Teams Pull Together and Others Don't" by Simon Sinek.\n\n  Listen for free on Youtube: Leaders Eat Last: Why Some Teams Pull Together and Others Don't by Simon Sinek - Audiobook\n\nBefore we meet\, take a few minutes to hear directly from the author:\n\n  Watch Simon Sinek on "Leaders Eat Last"\n\nhttps://www.youtube.com/watch?v=YNkOKV5xItI\n\nIn this short clip\, Sinek shares one of his most impactful lessons   that great leaders learn to be the last to speak. Listening fully before responding builds trust\, fosters understanding\, and strengthens communication across every team.\n\nCome ready to connect\, learn\, and discuss how leadership rooted in empathy and trust can transform the way we work and live.\n\n  Don't miss this chance to grow alongside your fellow Young Professionals!
X-ALT-DESC;FMTTYPE=text/html:<h3 data-end="254" data-start="189"><strong data-end="252" data-start="193">Young Professionals of Walton County November Book Club</strong></h3>\n\n<p data-end="433" data-start="256">Join the <strong data-end="305" data-start="265">Young Professionals of Walton County</strong> for our November Book Club\, featuring <em data-end="411" data-start="344">&ldquo\;Leaders Eat Last: Why Some Teams Pull Together and Others Don&rsquo\;t&rdquo\;</em> by <strong data-end="430" data-start="415">Simon Sinek</strong>.</p>\n\n<p data-end="798" data-start="435">In this inspiring read\, Sinek explores the principles behind strong\, trusting teams &mdash\; and how true leaders create environments where people feel valued\, supported\, and motivated to succeed. Whether you&rsquo\;re leading a team\, building your career\, or simply looking to grow personally and professionally\, this book offers practical insights you can apply right away.</p>\n\n<p data-end="921" data-start="800">This month&rsquo\;s discussion will take place at:<br data-end="846" data-start="843" />\n&#128205\; <strong data-end="874" data-start="849">Elite Cabinet Designs\,&nbsp\;</strong>11662 US Hwy 98 W\, Miramar Beach\, FL 32550<br data-end="901" data-start="898" />\n&#128197\; <strong data-end="919" data-start="904">November 12\, 2025</strong><br />\n&#128216\;&nbsp\;<strong data-end="1403" data-start="1386">Get the Book:</strong>&nbsp\;<a class="decorated-link" data-end="1502" data-start="1404" href="https://www.amazon.com/Leaders-Eat-Last-Together-Others/dp/1591848016" rel="noopener" target="_new">Amazon &ndash\; Leaders Eat Last<span aria-hidden="true" class="ms-0.5 inline-block align-middle leading-none"><svg class="block h-[0.75em] w-[0.75em] stroke-current stroke-[0.75]" data-rtl-flip="" fill="currentColor" height="20" viewbox="0 0 20 20" width="20" xmlns="http://www.w3.org/2000/svg"><path d="M14.3349 13.3301V6.60645L5.47065 15.4707C5.21095 15.7304 4.78895 15.7304 4.52925 15.4707C4.26955 15.211 4.26955 14.789 4.52925 14.5293L13.3935 5.66504H6.66011C6.29284 5.66504 5.99507 5.36727 5.99507 5C5.99507 4.63273 6.29284 4.33496 6.66011 4.33496H14.9999L15.1337 4.34863C15.4369 4.41057 15.665 4.67857 15.665 5V13.3301C15.6649 13.6973 15.3672 13.9951 14.9999 13.9951C14.6327 13.9951 14.335 13.6973 14.3349 13.3301Z"></path></svg></span></a><br data-end="1505" data-start="1502" />\n&#127911\;&nbsp\;<strong data-end="1530" data-start="1508">Listen on Audible:</strong>&nbsp\;<a href="https://www.audible.com/pd/Leaders-Eat-Last-Audiobook/0593291352?msockid=29151b7db3d362650e3d0ec4b274638c">Leaders Eat Last Audiobook by Simon Sinek</a><br />\n&#127911\;<strong>Listen on Spotify:&nbsp\;</strong><a href="https://open.spotify.com/show/0LOehrTFvrBDhYOJ13sxCj?si=595c78039cac4451"><em data-end="411" data-start="344">&ldquo\;Leaders Eat Last: Why Some Teams Pull Together and Others Don&rsquo\;t&rdquo\;</em>&nbsp\;by&nbsp\;<strong data-end="430" data-start="415">Simon Sinek</strong>.</a><br data-end="1505" data-start="1502" />\n&#127911\;&nbsp\;<strong>Listen for free on Youtube:</strong>&nbsp\;<a class="x_OWAAutoLink x_elementToProof" data-auth="NotApplicable" data-linkindex="1" data-olk-copy-source="MessageBody" href="https://www.youtube.com/watch?v=x9Dh_pzgg4Q" id="OWA0043a875-b096-c31d-0a13-78be06a3df8f" style="border: 0px\; font-variant-numeric: inherit\; font-variant-east-asian: inherit\; font-variant-alternates: inherit\; font-variant-position: inherit\; font-variant-emoji: inherit\; font-stretch: inherit\; font-size: 16px\; line-height: inherit\; font-family: Aptos\, Aptos_EmbeddedFont\, Aptos_MSFontService\, Calibri\, Helvetica\, sans-serif\, serif\, EmojiFont\; font-optical-sizing: inherit\; font-size-adjust: inherit\; font-kerning: inherit\; font-feature-settings: inherit\; font-variation-settings: inherit\; margin: 0px\; padding: 0px\; vertical-align: baseline\;" title="https://www.youtube.com/watch?v=x9Dh_pzgg4Q">Leaders Eat Last: Why Some Teams Pull Together and Others Don&#39\;t by Simon Sinek - Audiobook</a></p>\n\n<p data-end="1135" data-start="923">Before we meet\, take a few minutes to hear directly from the author:<br data-end="994" data-start="991" />\n&#127909\; <strong data-end="1040" data-start="997">Watch Simon Sinek on &ldquo\;Leaders Eat Last&rdquo\;</strong><br data-end="1043" data-start="1040" />\n<a class="decorated-link" data-end="1133" data-start="1043" href="https://www.youtube.com/watch?v=YNkOKV5xItI" rel="noopener" target="_new">https://www.youtube.com/watch?v=YNkOKV5xItI<span aria-hidden="true" class="ms-0.5 inline-block align-middle leading-none"><svg class="block h-[0.75em] w-[0.75em] stroke-current stroke-[0.75]" data-rtl-flip="" fill="currentColor" height="20" viewbox="0 0 20 20" width="20" xmlns="http://www.w3.org/2000/svg"><path d="M14.3349 13.3301V6.60645L5.47065 15.4707C5.21095 15.7304 4.78895 15.7304 4.52925 15.4707C4.26955 15.211 4.26955 14.789 4.52925 14.5293L13.3935 5.66504H6.66011C6.29284 5.66504 5.99507 5.36727 5.99507 5C5.99507 4.63273 6.29284 4.33496 6.66011 4.33496H14.9999L15.1337 4.34863C15.4369 4.41057 15.665 4.67857 15.665 5V13.3301C15.6649 13.6973 15.3672 13.9951 14.9999 13.9951C14.6327 13.9951 14.335 13.6973 14.3349 13.3301Z"></path></svg></span></a></p>\n\n<p data-end="1381" data-start="1137">In this short clip\, Sinek shares one of his most impactful lessons &mdash\; that great leaders learn to be <strong data-end="1258" data-start="1237">the last to speak</strong>. Listening fully before responding builds trust\, fosters understanding\, and strengthens communication across every team.</p>\n\n<p data-end="1755" data-start="1629">Come ready to connect\, learn\, and discuss how leadership rooted in empathy and trust can transform the way we work and live.</p>\n\n<p data-end="1838" data-start="1757">&#10024\; <strong data-end="1836" data-start="1759">Don&rsquo\;t miss this chance to grow alongside your fellow Young Professionals!</strong></p>\n
LOCATION:Location: Elite Cabinet Designs\, 11662 US Hwy 98 W\, Miramar Beach\, FL 32550
UID:e.885.56037
SEQUENCE:3
DTSTAMP:20260422T155441Z
URL:https://business.waltonareachamber.com/events/details/yp-book-club-56037
END:VEVENT

END:VCALENDAR
