BEGIN:VCALENDAR
VERSION:2.0
PRODID:-//ChamberMaster//Event Calendar 2.0//EN
METHOD:PUBLISH
X-PUBLISHED-TTL:P3D
REFRESH-INTERVAL:P3D
CALSCALE:GREGORIAN
BEGIN:VEVENT
DTSTART:20211028T230000Z
DTEND:20211029T013000Z
X-MICROSOFT-CDO-ALLDAYEVENT:FALSE
SUMMARY:YP of Walton County presents Trivia at the Boo Pub Grayton Beer Brewpub
DESCRIPTION:YP of Walton County presents Trivia at the Boo Pub
X-ALT-DESC;FMTTYPE=text/html:YP of Walton County presents Trivia at the Boo Pub
LOCATION:Grayton Beer Brew Pub
UID:e.885.32604
SEQUENCE:3
DTSTAMP:20260423T031355Z
URL:https://business.waltonareachamber.com/events/details/yp-of-walton-county-presents-trivia-at-the-boo-pub-grayton-beer-brewpub-32604
END:VEVENT

END:VCALENDAR
